BEGIN:VCALENDAR
VERSION:2.0
PRODID:-//PRODATO verbindet - ECPv6.15.20//NONSGML v1.0//EN
CALSCALE:GREGORIAN
METHOD:PUBLISH
X-WR-CALNAME:PRODATO verbindet
X-ORIGINAL-URL:https://prodato.de
X-WR-CALDESC:Veranstaltungen für PRODATO verbindet
REFRESH-INTERVAL;VALUE=DURATION:PT1H
X-Robots-Tag:noindex
X-PUBLISHED-TTL:PT1H
BEGIN:VTIMEZONE
TZID:Europe/Berlin
BEGIN:DAYLIGHT
TZOFFSETFROM:+0100
TZOFFSETTO:+0200
TZNAME:CEST
DTSTART:20240331T010000
END:DAYLIGHT
BEGIN:STANDARD
TZOFFSETFROM:+0200
TZOFFSETTO:+0100
TZNAME:CET
DTSTART:20241027T010000
END:STANDARD
BEGIN:DAYLIGHT
TZOFFSETFROM:+0100
TZOFFSETTO:+0200
TZNAME:CEST
DTSTART:20250330T010000
END:DAYLIGHT
BEGIN:STANDARD
TZOFFSETFROM:+0200
TZOFFSETTO:+0100
TZNAME:CET
DTSTART:20251026T010000
END:STANDARD
BEGIN:DAYLIGHT
TZOFFSETFROM:+0100
TZOFFSETTO:+0200
TZNAME:CEST
DTSTART:20260329T010000
END:DAYLIGHT
BEGIN:STANDARD
TZOFFSETFROM:+0200
TZOFFSETTO:+0100
TZNAME:CET
DTSTART:20261025T010000
END:STANDARD
END:VTIMEZONE
BEGIN:VEVENT
DTSTART;TZID=Europe/Berlin:20251030T140000
DTEND;TZID=Europe/Berlin:20251030T150000
DTSTAMP:20260420T090120
CREATED:20250605T162154Z
LAST-MODIFIED:20251031T083609Z
UID:10000100-1761832800-1761836400@prodato.de
SUMMARY:Couchbase: Hybrid Search
DESCRIPTION:In modernen Anwendungen geht es längst nicht mehr nur darum\, Daten zu speichern sie müssen schnell\, intelligent und kontextbezogen auffindbar sein. Nutzer erwarten präzise Ergebnisse\, sei es durch klassische Volltextsuche oder durch moderne Vektor-Suchen\, die semantischen Zusammenhänge erkennen. Gleichzeitig sollen Abfragen einfach und effizient bleiben\, idealerweise in einer vertrauten Sprache wie SQL. Genau hier setzt Hybrid Search an: die Kombination aus Volltext- und Vektorsuche in einer einzigen\, integrierten Abfrage. \nThemen des Webinars:\n1. Suchen neu definiert: \nNoSQL bildet die Basis für moderne\, intelligente Suchmechanismen – von Volltext bis semantisch mit Vektoren. \n2. Mehr als nur SQL \n\nVolltext-Suche – So geht eine freie Suche nach Inhalten\nVektor-Suche – Die Datenbank als „AI-brain“: Ähnlichkeitssuchen mit embeddings (Vektoren)\n\n3. Kombinierte Suche – „One statement to rule them all“ oder wie verbindet man das Beste aus allen Welten in einem Statement \n4. Effizient suchen\, flexibel bleiben: \nVektor- und Volltextsuche kombiniert in einer einzigen\, performanten Abfrageplattform – mit SQL gesteuert. \nAusblick\nNach dem Webinar wissen Sie\, wie sich Volltextsuche und moderne Vektor-Suche mit semantischem Kontext in einer einzigen SQL-basierten Abfrage kombinieren lassen. Sie erleben\, wie Couchbase eine nahtlose Suche über strukturierte und unstrukturierte Inhalte ermöglicht. Intelligent\, integriert und effizient. \nSneak Peek: Mobil Sync und offline-first. Vorschau auf unser nächstes Webinar! \nSie sind Entwickler\, Architekt oder Product Owner und möchten wissen\, wie sich Volltext- und Vektor-Suche in einem System vereinen lassen?\nIn diesem Webinar zeigen wir\, wie Sie mit Couchbase intelligente\, semantisch angereicherte Abfragen direkt in SQL formulieren\, ohne komplexe Systembrüche. \nJetzt anmelden und hybrid Queries mit Couchbase meistern! \nSpeaker\nDr. Johannes HeldPRODATO a Dataciders Company\nPrincipal \nKateryna ShpynovaCouchbase\nSolutions Engineer
URL:https://prodato.de/veranstaltungen/hybrid-search/
LOCATION:Online-Veranstaltung
CATEGORIES:Aktuelles,Couchbase
ATTACH;FMTTYPE=image/png:https://prodato.de/wp-content/uploads/2025/06/Webinar_Hybrid_Search.png
END:VEVENT
BEGIN:VEVENT
DTSTART;TZID=Europe/Berlin:20251009T140000
DTEND;TZID=Europe/Berlin:20251009T153500
DTSTAMP:20260420T090120
CREATED:20250822T130524Z
LAST-MODIFIED:20251020T065757Z
UID:10000115-1760018400-1760024100@prodato.de
SUMMARY:Workshop: Hands-On Datenvirtualisierung mit CData Virtuality
DESCRIPTION:Workshop: Hands-On Datenvirtualisierung mit CData Virtuality\nViele mittelständische Unternehmen sitzen auf einem Schatz an Daten\, doch dieser ist oft über zahllose Systeme verteilt und schwer nutzbar. Der Wunsch nach fundierten\, datengetriebenen Entscheidungen wächst\, doch Zeit\, Ressourcen und passende Tools fehlen. \nGenau hier setzt unser Workshop an: Wir zeigen\, wie Datenvirtualisierung Ihre bestehenden Datenquellen nahtlos verbindet\, ohne Kopien und ohne neues Datenchaos. In kürzester Zeit entsteht so eine flexible\, moderne Dateninfrastruktur\, die Fachbereiche und IT gleichermaßen entlastet. \nGemeinsam mit unseren Experten erleben Sie die Grundlagen dieses Ansatzes live und setzen erste praktische Schritte mit CData Virtuality um\, der enterprise-erprobten Plattform für Datenvirtualisierung. \nWarum Sie teilnehmen sollten\nPraxisnaher Einstieg\nErleben Sie Data Virtualization live an einem Anwendungsfall und sammeln Sie direkt erste praktische Erfahrungen. \nSchnelle Erfolge\nVerlassen Sie den Workshop mit greifbaren Ergebnissen\, wie einem virtuellen Datenmodell als Prototyp für Ihre Umgebung. \nDatenintegration live erleben\nSehen Sie\, wie heterogene Daten in Echtzeit ohne aufwändige Kopien oder ETL-Prozesse zusammengeführt werden. \nExpertentipps & Best Practices\nProfitieren Sie von erfahrenen Beratern\, bewährten Vorgehensweisen und praxisnahen Antworten auf Ihre individuellen Fragen. \nZukunftsorientierte Lösungen\nNutzen Sie CData Virtuality als Single Point of Access und gestalten Sie Ihre Datenstrategie agiler und skalierbarer. \nWas Sie erwartet14:00 – 14:05 Uhr                Begrüßung & Einführung Vorstellung der Teilnehmer und Überblick über Ziele und Ablauf des Workshops. \n14:05 – 14:10 Uhr                Grundlagen DatenvirtualisierungVerstehen Sie\, warum Datenvirtualisierung gerade im Mittelstand den entscheidenden Unterschied macht. Wir zeigen die wichtigsten Konzepte und den direkten Nutzen für Ihr Unternehmen. \n14:10 – 14:20 Uhr                CData Virtuality im ÜberblickErleben Sie die Plattform live: Ein kompakter Rundgang durch Funktionen\, Oberfläche und zentrale Features. \n14:20 – 15:20 Uhr               Hands-On ÜbungGemeinsam mit unseren Experten binden Sie verschiedene Datenquellen an (z. B. Datenbank und Excel) und erstellen Ihr erstes virtuelles Datenmodell. Formulieren Sie Abfragen und sehen Sie die Ergebnisse sofort. \n15:20 – 15:35 Uhr               Abschluss & AusblickZusammenfassung der wichtigsten Erkenntnisse\, offene Fragerunde und Diskussion. \nWas Sie erwartet14:00 – 14:05 Uhr\nBegrüßung & Einführung Vorstellung der Teilnehmer und Überblick über Ziele und Ablauf des Workshops. \n14:05 – 14:10 Uhr\nGrundlagen Datenvirtualisierung Verstehen Sie\, warum Datenvirtualisierung gerade im Mittelstand den entscheidenden Unterschied macht. Wir zeigen die wichtigsten Konzepte und den direkten Nutzen für Ihr Unternehmen. \n14:10 – 14:20 Uhr\nCData Virtuality im Überblick Erleben Sie die Plattform live: Ein kompakter Rundgang durch Funktionen\, Oberfläche und zentrale Features. \n14:20 – 15:20 Uhr\nHands-On Übung Gemeinsam mit unseren Experten binden Sie verschiedene Datenquellen an (z. B. Datenbank und Excel) und erstellen Ihr erstes virtuelles Datenmodell. Formulieren Sie Abfragen und sehen Sie die Ergebnisse sofort. \n15:20 – 15:35 Uhr\nAbschluss & Ausblick Zusammenfassung der wichtigsten Erkenntnisse\, offene Fragerunde und Diskussion. \nWer dabei sein sollte\nDer Workshop richtet sich an IT-Entscheider\, Datenarchitekten\, BI-Manager sowie Fachbereichsleiter in mittelständischen Unternehmen\, die verteilte Daten effizienter nutzen möchten. Insbesondere angesprochen sind Teilnehmer\, die vor der Aufgabe stehen\, Daten aus verschiedenen Quellen für Analysen und Berichte zusammenzuführen\, ohne dabei neue Datensilos zu schaffen. \nDas nehmen Sie mit\n\nVerständnis der Datenvirtualisierung: Sie lernen die Prinzipien und Vorteile kennen\, zum Beispiel weniger Schnittstellenaufwand\, höhere Datenverfügbarkeit und mehr Agilität für die Fachbereiche.\nEinblick in CData Virtuality: Sie entdecken die Möglichkeiten der Plattform und erfahren\, wie sie Datenbanken\, Dateien und weitere Quellen über eine virtuelle Ebene verbindet.\nPraxis-Erfahrung: In der Übung erstellen Sie ein prototypisches virtuelles Datenmodell. So erleben Sie direkt\, wie Datavirtualisierung funktioniert\, und haben eine Vorlage für eigene Use Cases.\nKlare nächste Schritte: Sie erhalten konkrete Empfehlungen\, von technischen Voraussetzungen bis zu organisatorischen Tipp\, um Datenvirtualisierung erfolgreich in Ihrem Unternehmen einzuführen. Damit sind Sie bestens vorbereitet für den Weg zu einer modernen\, datengetriebenen Organisation.
URL:https://prodato.de/veranstaltungen/workshop-hands-on-datenvirtualisierung-mit-cdata-virtuality/
LOCATION:Online-Veranstaltung
CATEGORIES:Aktuelles,CData Virtuality
ATTACH;FMTTYPE=image/jpeg:https://prodato.de/wp-content/uploads/2025/08/3.jpg
END:VEVENT
BEGIN:VEVENT
DTSTART;TZID=Europe/Berlin:20250924T140000
DTEND;TZID=Europe/Berlin:20250924T150000
DTSTAMP:20260420T090120
CREATED:20250605T162147Z
LAST-MODIFIED:20251020T065838Z
UID:10000106-1758722400-1758726000@prodato.de
SUMMARY:Couchbase: Datenzugriff und Abfragen
DESCRIPTION:Moderne Anwendungen stellen immer höhere Anforderungen an Flexibilität\, Performance und Skalierbarkeit bei der Datenhaltung. Gleichzeitig wünschen sich viele Entwickler die vertraute Ausdrucksstärke von SQL auch im Umgang mit JSON-Daten. Wie sich diese Welten verbinden lassen\, zeigt unser nächstes Webinar. \nThemen des Webinars:\n1. Struktur trifft Dynamik: \nModerne NoSQL-Systeme ermöglichen Abfragen auf flexiblen JSON-Dokumenten – skalierbar und anpassbar. \n2. Mit SQL auf JSON-Dokumente?! – Ist NoSQL\, lässt sich aber relational nutzen. \n\nSQL++ mit Joins\,\nTransaktionen\nFunktionen für Timeseries\nCTEs für Graph-Traversal\n\n3. Relationale Power trifft JSON-Flexibilität: \nMit Couchbase erstellen Sie komplexe Abfragen über dynamische Daten – SQL++ macht’s möglich. Ob Joins\, Aggregationen oder Transaktionen: alles in einer modernen NoSQL-Plattform. \nAusblick\nNach dem Webinar verstehen Sie\, wie sich relationale Abfragelogik mit flexiblen JSON-Datenmodellen verbinden lässt\, ganz ohne auf SQL-Komfort zu verzichten.\nSie lernen\, wie Sie mit Couchbase komplexe\, performante Abfragen über dokumentenbasierte Daten strukturieren und gleichzeitig bekannte SQL-Konzepte nutzen.\nSneak Peek: Hybrid Search mit Couchbase – Vorschau auf unser nächstes Webinar! \nSie sind Entwickler\, Architekt oder Datenbank-Profi und möchten wissen\, wie sich SQL mit modernen JSON-Datenmodellen kombinieren lässt?\nIn diesem Webinar zeigen wir\, wie Sie mit Couchbase bekannte SQL-Logik auf flexible NoSQL-Strukturen anwenden. Praxisnah\, performant und zukunftssicher. Jetzt schnell sein und Platz sichern! \nSpeaker\nDr. Johannes HeldPRODATO a Dataciders Company\nPrincipal \nKateryna ShpynovaCouchbase\nSolutions Engineer
URL:https://prodato.de/veranstaltungen/datenzugriff-und-abfragen/
LOCATION:Online-Veranstaltung
CATEGORIES:Aktuelles,Couchbase
ATTACH;FMTTYPE=image/png:https://prodato.de/wp-content/uploads/2025/06/Webinar_Datenzugriff_und_Abfrage.png
END:VEVENT
BEGIN:VEVENT
DTSTART;TZID=Europe/Berlin:20250717T140000
DTEND;TZID=Europe/Berlin:20250717T150000
DTSTAMP:20260420T090120
CREATED:20250605T162102Z
LAST-MODIFIED:20250718T120739Z
UID:10000099-1752760800-1752764400@prodato.de
SUMMARY:Couchbase: Grundlage NoSQL
DESCRIPTION:Moderne Anwendungen stellen hohe Anforderungen an die Datenverwaltung: Sie muss flexibel\, skalierbar und leistungsfähig sein. Relationale Datenbanken stoßen dabei zunehmend an ihre Grenzen und genau an diesem Punkt setzt NoSQL an.\nDoch was verbirgt sich hinter dem Begriff NoSQL? In welchen Szenarien lohnt sich der Einsatz\, und welche Arten von NoSQL-Datenbanken gibt es? \nThemen des Webinars:\n1. Startklar für moderne Datenwelten \nKlassische Datenbanken stoßen bei dynamischen Anwendungen oft an ihre Grenzen – NoSQL liefert die Antwort mit Skalierbarkeit\, Verfügbarkeit und Flexibilität. \n2. Welche NoSQL-Datenbank passt zu welchem Use Case? \n\nDokumentenbasiert (Key/Value) – Flexible JSON-Datenmodelle für dynamische Anwendungen\n Timeseries – Optimiert für zeitgestempelte Daten und Echtzeit-Analysen\nSpaltenbasiert – Effiziente Speicherung für analytische Workloads\nVektor – Finden von Ähnlichkeiten und Speicher für AI\nGraph – Beziehungen und Netzwerke effizient abbilden\n\n3. Vorteile Dokumentenbasierte Datenbanken \n\nSchema-Freiheit und Flexibilität – Neue Features einfach durch neue Felder hinzufügen\, ohne die Datenbankstruktur zu ändern\nObjektzentrische Arbeitsweise – Ein Dokument bündelt alle Informationen. Schneller Zugriff ohne (relationale) Aufteilung\n\n4. Die Plattform für moderne Anforderungen: \nCouchbase bietet dokumentenbasierte Flexibilität kombiniert mit vertrauter Abfragesprache – ideal für dynamische Anforderungen. \nAusblick\nNach dem Webinar wissen Sie\, welche Arten von NoSQL-Datenbanken es gibt\, wie sie sich voneinander unterscheiden und für welche Szenarien sie besonders geeignet sind. Sie erhalten einen praxisnahen Überblick\, wie Couchbase mit dokumentenbasierten Ansätzen moderne Anforderungen flexibel und skalierbar adressiert. \nSneak Peek: Datenzugriffe mit Couchbase – Vorschau auf unser nächstes Webinar! \nSie sind Product Owner\, IT-Architekt oder Entwickler und möchten verstehen\, wie moderne NoSQL-Datenbanken über klassische Grenzen hinausgehen?\nDann entdecken Sie in unserem praxisnahen Webinar\, wie Couchbase mit dokumentenbasierten Ansätzen und weiteren NoSQL-Modellen innovative Lösungen für Ihre Anwendung\, Architektur oder Systemlandschaft bietet.\nJetzt schnell sein und Platz sichern! \nJetzt ansehenDr. Johannes HeldPRODATO a Dataciders Company\nPrincipal \nGregor BauerCouchbase\nSolutions Engineering CEUR
URL:https://prodato.de/veranstaltungen/grundlage-nosql/
LOCATION:Online-Veranstaltung
CATEGORIES:Aktuelles,Couchbase
ATTACH;FMTTYPE=image/png:https://prodato.de/wp-content/uploads/2025/06/Webinar_Grundlage_NOSQL.png
END:VEVENT
BEGIN:VEVENT
DTSTART;TZID=Europe/Berlin:20250403T140000
DTEND;TZID=Europe/Berlin:20250403T150000
DTSTAMP:20260420T090120
CREATED:20250224T153226Z
LAST-MODIFIED:20250613T063556Z
UID:10000079-1743688800-1743692400@prodato.de
SUMMARY:JasperReports IO & Web Studio: Die nächste Raketenstufe für Ihr Reporting-Backend
DESCRIPTION:Als Unternehmen stehen Sie heute vor der Herausforderung\, Daten effizient zu analysieren und aussagekräftige Berichte zu erstellen. Eine moderne Reporting-Lösung ermöglicht es Ihnen\, Geschäftsprozesse zu optimieren\, fundierte Entscheidungen zu treffen und wertvolle Insights aus Ihren Daten zu gewinnen. Genau hier setzt Jaspersoft an – eine leistungsstarke Lösung für flexibles\, skalierbares und sicheres Reporting. \nWir von der PRODATO Integration Technology GmbH laden Sie in Zusammenarbeit mit unseren Experten von Jaspersoft herzlich zu einem kostenlosen\, einstündigen Webinar ein. Unser Ziel ist es\, Ihnen praxisnah zu zeigen\, wie Sie mit JasperReports IO und Web Studio Ihr Reporting-Backend optimieren\, Berichte effizient erstellen und Ihre Datenvisualisierung auf das nächste Level heben – ganz ohne lokale Installation. \nJetzt Ansehen5 Gründe\, warum sich der Wechsel oder Einsatz zur Commercial Edition lohnt:\n\nMehr Funktionen\, mehr Flexibilität: Web Studio\, BI-Self-Service\, Dashboarding & interaktive Analysen\nJasperReports IO als Microservice: Leistungsstarkes\, skalierbares und flexibles Reporting-Backend\nProfessioneller Support & regelmäßige Updates: Sicherheit\, Stabilität und Expertenhilfe bei jeder Herausforderung\nMaximale Sicherheit & Compliance-Garantien: Erfüllen Sie Unternehmensrichtlinien und regulatorische Anforderungen\nOEM & ISV-Integration: Integrieren Sie Jaspersoft nahtlos in Ihre Anwendungen\n\nWas Sie aus dem Webinar mitnehmen:\n\nOptimierte Reporting-Prozesse: Wie JasperReports IO als Microservice Ihr Backend vereinfacht\nSchnelle und intuitive Berichtserstellung: Praxisnahe Live-Demo im Web Studio\nKommerzielle Editionen im Vergleich: Welche Features und Vorteile Ihnen die Commercial Edition bietet\nFlexibilität und Skalierbarkeit: Warum sich der Wechsel zur Commercial Edition lohnt\nEntscheidungshilfe: JasperReports Server oder JasperReports IO – welche Lösung passt besser zu Ihnen?\n\nWir freuen uns darauf\, Sie in unserem Webinar zu begleiten und Ihnen praxisnahe Einblicke in die Welt von JasperReports IO und Web Studio zu geben. \nSpeaker\nDr. Johannes HeldPRODATO a Dataciders Company\nPrincipal \nThomas TibckenJaspersoft\nSenior Solutions Engineer
URL:https://prodato.de/veranstaltungen/jasperreports-io-web-studio/
LOCATION:Online-Veranstaltung
ATTACH;FMTTYPE=image/png:https://prodato.de/wp-content/uploads/2025/02/BANNER-WEBSITE-AKTUELLES-8.png
END:VEVENT
END:VCALENDAR