BEGIN:VCALENDAR
VERSION:2.0
PRODID:-//PRODATO verbindet - ECPv6.15.20//NONSGML v1.0//EN
CALSCALE:GREGORIAN
METHOD:PUBLISH
X-WR-CALNAME:PRODATO verbindet
X-ORIGINAL-URL:https://prodato.de
X-WR-CALDESC:Veranstaltungen für PRODATO verbindet
REFRESH-INTERVAL;VALUE=DURATION:PT1H
X-Robots-Tag:noindex
X-PUBLISHED-TTL:PT1H
BEGIN:VTIMEZONE
TZID:Europe/Berlin
BEGIN:DAYLIGHT
TZOFFSETFROM:+0100
TZOFFSETTO:+0200
TZNAME:CEST
DTSTART:20240331T010000
END:DAYLIGHT
BEGIN:STANDARD
TZOFFSETFROM:+0200
TZOFFSETTO:+0100
TZNAME:CET
DTSTART:20241027T010000
END:STANDARD
BEGIN:DAYLIGHT
TZOFFSETFROM:+0100
TZOFFSETTO:+0200
TZNAME:CEST
DTSTART:20250330T010000
END:DAYLIGHT
BEGIN:STANDARD
TZOFFSETFROM:+0200
TZOFFSETTO:+0100
TZNAME:CET
DTSTART:20251026T010000
END:STANDARD
BEGIN:DAYLIGHT
TZOFFSETFROM:+0100
TZOFFSETTO:+0200
TZNAME:CEST
DTSTART:20260329T010000
END:DAYLIGHT
BEGIN:STANDARD
TZOFFSETFROM:+0200
TZOFFSETTO:+0100
TZNAME:CET
DTSTART:20261025T010000
END:STANDARD
END:VTIMEZONE
BEGIN:VEVENT
DTSTART;TZID=Europe/Berlin:20251125T090000
DTEND;TZID=Europe/Berlin:20251127T170000
DTSTAMP:20260422T151510
CREATED:20250804T132315Z
LAST-MODIFIED:20251118T043647Z
UID:10000113-1764061200-1764262800@prodato.de
SUMMARY:Smart Production Solutions EXPO 2025
DESCRIPTION:PRODATO auf der SPS – Smart Production Solutions 2025\nDie SPS – Smart Production Solutions ist weit mehr als eine Messe – sie ist der zentrale Treffpunkt für smarte und digitale Automatisierung. Vom 25. bis 27. November 2025 zeigen über 1.100 Aussteller in Nürnberg\, was heute möglich ist und was morgen den Unterschied macht. \nAuch wir von PRODATO sind mit dabei\, wenn Innovation auf Umsetzung trifft. Wir bringen unsere Expertise in datengetriebener Prozessoptimierung\, Industrial Analytics und KI-gestützter Automatisierung ein und zeigen\, wie Unternehmen ihre Prozesse effizienter\, vernetzter und zukunftssicher gestalten können. \nEin besonderes Highlight: Am Mittwoch\, den 26. November 2025\, von 15:20 bis 15:40 Uhr präsentiert Melanie B. Sigl auf der Stage in Halle 1 ihren Vortrag „Skalierbare Optimierung von Großanlagen mit MLOps“. Sie zeigt\, wie Maschinelles Lernen als digitaler Zwilling die Optimierung von Anlageneinstellungen erleichtert und wie sich erfolgreiche Proof of Concepts in skalierbare Cloud- und MLOps-Prozesse überführen lassen. \nEs erwarten Sie drei Tage voller Zukunftsimpulse\, praxisnaher Anwendungen und intensiven Austauschs. \nWir freuen uns\, Sie auf der SPS in Nürnberg zu treffen! Sie finden uns in Halle 6 am Stand 6-123. \nJetzt kostenfreies Ticket sichern
URL:https://prodato.de/veranstaltungen/smart-production-solutions-expo-2025/
LOCATION:Messe Nürnberg\, Messezentrum Ost\, Nürnberg\, 90471
CATEGORIES:Prozessautomatisierung
ATTACH;FMTTYPE=image/png:https://prodato.de/wp-content/uploads/2025/08/SPS-EXPO-2025.png
END:VEVENT
END:VCALENDAR