BEGIN:VCALENDAR
VERSION:2.0
PRODID:-//PRODATO verbindet - ECPv6.15.20//NONSGML v1.0//EN
CALSCALE:GREGORIAN
METHOD:PUBLISH
X-WR-CALNAME:PRODATO verbindet
X-ORIGINAL-URL:https://prodato.de
X-WR-CALDESC:Veranstaltungen für PRODATO verbindet
REFRESH-INTERVAL;VALUE=DURATION:PT1H
X-Robots-Tag:noindex
X-PUBLISHED-TTL:PT1H
BEGIN:VTIMEZONE
TZID:Europe/Berlin
BEGIN:DAYLIGHT
TZOFFSETFROM:+0100
TZOFFSETTO:+0200
TZNAME:CEST
DTSTART:20250330T010000
END:DAYLIGHT
BEGIN:STANDARD
TZOFFSETFROM:+0200
TZOFFSETTO:+0100
TZNAME:CET
DTSTART:20251026T010000
END:STANDARD
BEGIN:DAYLIGHT
TZOFFSETFROM:+0100
TZOFFSETTO:+0200
TZNAME:CEST
DTSTART:20260329T010000
END:DAYLIGHT
BEGIN:STANDARD
TZOFFSETFROM:+0200
TZOFFSETTO:+0100
TZNAME:CET
DTSTART:20261025T010000
END:STANDARD
BEGIN:DAYLIGHT
TZOFFSETFROM:+0100
TZOFFSETTO:+0200
TZNAME:CEST
DTSTART:20270328T010000
END:DAYLIGHT
BEGIN:STANDARD
TZOFFSETFROM:+0200
TZOFFSETTO:+0100
TZNAME:CET
DTSTART:20271031T010000
END:STANDARD
END:VTIMEZONE
BEGIN:VEVENT
DTSTART;VALUE=DATE:20260127
DTEND;VALUE=DATE:20260130
DTSTAMP:20260422T164709
CREATED:20260108T115619Z
LAST-MODIFIED:20260108T115619Z
UID:10000122-1769472000-1769731199@prodato.de
SUMMARY:Handelsblatt Energie-Gipfel Berlin 2026
DESCRIPTION:Dataciders beim Handelsblatt Energie-Gipfel 2026\nSystem unter Spannung – unter diesem Leitthema bringt der Handelsblatt Energie-Gipfel vom 27. bis 29. Januar 2026 die zentralen Akteure der Energiebranche in Berlin zusammen. Als jährlicher Auftakt der Branche steht der Gipfel ganz im Zeichen der Frage\, wie die Energieversorgung auch unter hohem Transformationsdruck sicher\, flexibel und bezahlbar gestaltet werden kann. \n2026 ist geprägt von weitreichenden Veränderungen: Die Umsetzung der Kraftwerksstrategie\, neue Impulse aus dem Bundesministerium für Wirtschaft und Energie\, Investitionsentscheidungen für Netze sowie regulatorische Anpassungen – etwa im Gebäudebereich – werden das Energiesystem nachhaltig beeinflussen. Gleichzeitig nehmen die Anforderungen an Versorgungssicherheit\, Wirtschaftlichkeit und Transformation weiter zu. \nWir sind als Dataciders ebenfalls vor Ort und nutzen den Energie-Gipfel\, um Erfahrungen aus datengetriebenen Projekten in der Energiewirtschaft einzubringen. Im Fokus steht die Frage\, wie belastbare Datenbasen entstehen\, um Netze\, Märkte und Prozesse transparenter zu steuern – und wie sich aus einzelnen Initiativen skalierbare\, wiederholbare Fähigkeiten entwickeln lassen\, statt isolierter Pilotlösungen. \nWir freuen uns auf den persönlichen Austausch in Berlin und auf den Dialog darüber\, wie sich Stabilität und Flexibilität im Energiesystem 2026 systemisch verankern lassen.
URL:https://prodato.de/veranstaltungen/handelsblatt-energiegipfel-berlin-2026/
LOCATION:bcc Berlin Congress Center\, Alexanderstr. 11\, Berlin\, 10178\, Germany
CATEGORIES:Aktuelles
ATTACH;FMTTYPE=image/png:https://prodato.de/wp-content/uploads/2025/12/4.png
END:VEVENT
END:VCALENDAR