BEGIN:VCALENDAR
VERSION:2.0
PRODID:-//PRODATO verbindet - ECPv6.15.20//NONSGML v1.0//EN
CALSCALE:GREGORIAN
METHOD:PUBLISH
X-WR-CALNAME:PRODATO verbindet
X-ORIGINAL-URL:https://prodato.de
X-WR-CALDESC:Veranstaltungen für PRODATO verbindet
REFRESH-INTERVAL;VALUE=DURATION:PT1H
X-Robots-Tag:noindex
X-PUBLISHED-TTL:PT1H
BEGIN:VTIMEZONE
TZID:Europe/Berlin
BEGIN:DAYLIGHT
TZOFFSETFROM:+0100
TZOFFSETTO:+0200
TZNAME:CEST
DTSTART:20230326T010000
END:DAYLIGHT
BEGIN:STANDARD
TZOFFSETFROM:+0200
TZOFFSETTO:+0100
TZNAME:CET
DTSTART:20231029T010000
END:STANDARD
BEGIN:DAYLIGHT
TZOFFSETFROM:+0100
TZOFFSETTO:+0200
TZNAME:CEST
DTSTART:20240331T010000
END:DAYLIGHT
BEGIN:STANDARD
TZOFFSETFROM:+0200
TZOFFSETTO:+0100
TZNAME:CET
DTSTART:20241027T010000
END:STANDARD
BEGIN:DAYLIGHT
TZOFFSETFROM:+0100
TZOFFSETTO:+0200
TZNAME:CEST
DTSTART:20250330T010000
END:DAYLIGHT
BEGIN:STANDARD
TZOFFSETFROM:+0200
TZOFFSETTO:+0100
TZNAME:CET
DTSTART:20251026T010000
END:STANDARD
END:VTIMEZONE
BEGIN:VEVENT
DTSTART;TZID=Europe/Berlin:20240514T140000
DTEND;TZID=Europe/Berlin:20240514T180000
DTSTAMP:20260420T102344
CREATED:20240510T145227Z
LAST-MODIFIED:20250129T114133Z
UID:10000020-1715695200-1715709600@prodato.de
SUMMARY:Connections Karrieremesse 2024
DESCRIPTION:Am 14. Mai wird PRODATO erstmalig bei der Connections Karrieremesse Coburg vertreten sein. Wir freuen uns schon auf einen regen Austausch mit interessierten Studentinnen und Studenten. Zwischen 14 und 18 Uhr sind wir auf dem Campus Gelände der Hochschule Coburg anzutreffen und wollen den Besucherinnen und Besuchern einen Einblick in das Leben eines IT-Consultant oder Software-Engineers ermöglichen. Wir freuen uns auf euch!
URL:https://prodato.de/veranstaltungen/connections-2024/
LOCATION:Campus Friedrich Streib\, Friedrich-Streib-Straße 2\, Coburg\, 96450
ATTACH;FMTTYPE=image/png:https://prodato.de/wp-content/uploads/2024/05/17.png
END:VEVENT
END:VCALENDAR