BEGIN:VCALENDAR
VERSION:2.0
PRODID:-//PRODATO verbindet - ECPv6.15.20//NONSGML v1.0//EN
CALSCALE:GREGORIAN
METHOD:PUBLISH
X-WR-CALNAME:PRODATO verbindet
X-ORIGINAL-URL:https://prodato.de
X-WR-CALDESC:Veranstaltungen für PRODATO verbindet
REFRESH-INTERVAL;VALUE=DURATION:PT1H
X-Robots-Tag:noindex
X-PUBLISHED-TTL:PT1H
BEGIN:VTIMEZONE
TZID:Europe/Berlin
BEGIN:DAYLIGHT
TZOFFSETFROM:+0100
TZOFFSETTO:+0200
TZNAME:CEST
DTSTART:20240331T010000
END:DAYLIGHT
BEGIN:STANDARD
TZOFFSETFROM:+0200
TZOFFSETTO:+0100
TZNAME:CET
DTSTART:20241027T010000
END:STANDARD
BEGIN:DAYLIGHT
TZOFFSETFROM:+0100
TZOFFSETTO:+0200
TZNAME:CEST
DTSTART:20250330T010000
END:DAYLIGHT
BEGIN:STANDARD
TZOFFSETFROM:+0200
TZOFFSETTO:+0100
TZNAME:CET
DTSTART:20251026T010000
END:STANDARD
BEGIN:DAYLIGHT
TZOFFSETFROM:+0100
TZOFFSETTO:+0200
TZNAME:CEST
DTSTART:20260329T010000
END:DAYLIGHT
BEGIN:STANDARD
TZOFFSETFROM:+0200
TZOFFSETTO:+0100
TZNAME:CET
DTSTART:20261025T010000
END:STANDARD
END:VTIMEZONE
BEGIN:VEVENT
DTSTART;TZID=Europe/Berlin:20250522T090000
DTEND;TZID=Europe/Berlin:20250522T150000
DTSTAMP:20260422T164513
CREATED:20250507T121331Z
LAST-MODIFIED:20251020T070502Z
UID:10000097-1747904400-1747926000@prodato.de
SUMMARY:PRODATO beim Qlik Talend Insights Day Berlin 2025
DESCRIPTION:Vortrag von PRODATO: Echtzeit-Datenverarbeitung im Einzelhandel\nIm Rahmen des Qlik Talend Insights Day freuen wir uns\, dass unser Managing Consultant Mathias Kalb einen spannenden Anwender-Vortrag hält: \nTitel: „Real-Time Datenverarbeitung von Kassenbons im Einzelhandel bei NORMA“\nUhrzeit: 14:00 – 14:30 Uhr \nErfahren Sie\, wie PRODATO mit modernster Datenintegrationstechnologie eine Echtzeitverarbeitung von Kassendaten ermöglicht und so neue Maßstäbe in der Retail-Analytics setzt. \nWas Sie mitnehmen können:\n\nExklusive Einblicke in die Qlik Talend Data Fabric Roadmap\nNeueste Produktinnovationen von der Qlik Connect\nPraxisnahe Use Cases von Unternehmen wie Nürnberg Messe\, AOK Niedersachsen\, Douglas und PRODATO\nNetworking mit Datenverantwortlichen und Experten\n\nSpeaker\nMathias KalbPRODATO a Dataciders Company\nManaging Consultant
URL:https://prodato.de/veranstaltungen/qlik-talend-insights-day-berlin/
LOCATION:Data Space\, Rosenthaler Str. 38\, 10178 Berlin\, Germany
CATEGORIES:Aktuelles,PRODATO (Allgemein),Qlik
ATTACH;FMTTYPE=image/png:https://prodato.de/wp-content/uploads/2025/05/BANNER-WEBSITE-AKTUELLES-16.png
END:VEVENT
END:VCALENDAR