BEGIN:VCALENDAR
VERSION:2.0
PRODID:-//PRODATO verbindet - ECPv6.15.20//NONSGML v1.0//EN
CALSCALE:GREGORIAN
METHOD:PUBLISH
X-WR-CALNAME:PRODATO verbindet
X-ORIGINAL-URL:https://prodato.de
X-WR-CALDESC:Veranstaltungen für PRODATO verbindet
REFRESH-INTERVAL;VALUE=DURATION:PT1H
X-Robots-Tag:noindex
X-PUBLISHED-TTL:PT1H
BEGIN:VTIMEZONE
TZID:Europe/Berlin
BEGIN:DAYLIGHT
TZOFFSETFROM:+0100
TZOFFSETTO:+0200
TZNAME:CEST
DTSTART:20220327T010000
END:DAYLIGHT
BEGIN:STANDARD
TZOFFSETFROM:+0200
TZOFFSETTO:+0100
TZNAME:CET
DTSTART:20221030T010000
END:STANDARD
BEGIN:DAYLIGHT
TZOFFSETFROM:+0100
TZOFFSETTO:+0200
TZNAME:CEST
DTSTART:20230326T010000
END:DAYLIGHT
BEGIN:STANDARD
TZOFFSETFROM:+0200
TZOFFSETTO:+0100
TZNAME:CET
DTSTART:20231029T010000
END:STANDARD
BEGIN:DAYLIGHT
TZOFFSETFROM:+0100
TZOFFSETTO:+0200
TZNAME:CEST
DTSTART:20240331T010000
END:DAYLIGHT
BEGIN:STANDARD
TZOFFSETFROM:+0200
TZOFFSETTO:+0100
TZNAME:CET
DTSTART:20241027T010000
END:STANDARD
END:VTIMEZONE
BEGIN:VEVENT
DTSTART;TZID=Europe/Berlin:20230511T100000
DTEND;TZID=Europe/Berlin:20230511T150000
DTSTAMP:20260420T104430
CREATED:20230412T091317Z
LAST-MODIFIED:20250129T121022Z
UID:10000052-1683799200-1683817200@prodato.de
SUMMARY:Hochschulkontaktmesse FHAnsbach
DESCRIPTION:PRODATO präsentiert sich auch dieses Jahr wieder auf der Hochschulkontaktmesse Ansbach am 11.05.2023.\nWir freuen uns\, IT-affine Studierende direkt am Campus zu treffen und ihnen einen Einblick in die datenzentrierte IT-Beratung bei PRODATO zu geben. Im persönlichen Gespräch stellen die Consultants und Software Engineers ihre Arbeitsalltag in unserem Unternehmen vor. Moderne Technologien\, interdisziplinäre Aufgaben\, vielfältige Projekte\, guter Team-Spirit: Das bieten die Karrierechancen bei uns.\nWir freuen uns auf deinen Besuch an unserem Messestand! \nKontaktWenn ihr Fragen habt\, wendet euch jederzeit an unser Recruiting-Team. \nkontaktiere unser Recruiting-teamKey factsThema \nHochschulkontaktmesse FH Ansbach 2023\, Karrierekontaktmesse\, Berufseinstieg\, Werkstudenten\, IT-Beratung
URL:https://prodato.de/veranstaltungen/hochschulkontaktmesse-fhansbach/
LOCATION:FH Ansbach\, Residenzstraße 8\, Ansbach\, 91522
ATTACH;FMTTYPE=image/png:https://prodato.de/wp-content/uploads/2023/04/59.png
END:VEVENT
END:VCALENDAR