BEGIN:VCALENDAR
VERSION:2.0
PRODID:-//PRODATO verbindet - ECPv6.15.20//NONSGML v1.0//EN
CALSCALE:GREGORIAN
METHOD:PUBLISH
X-WR-CALNAME:PRODATO verbindet
X-ORIGINAL-URL:https://prodato.de
X-WR-CALDESC:Veranstaltungen für PRODATO verbindet
REFRESH-INTERVAL;VALUE=DURATION:PT1H
X-Robots-Tag:noindex
X-PUBLISHED-TTL:PT1H
BEGIN:VTIMEZONE
TZID:Europe/Berlin
BEGIN:DAYLIGHT
TZOFFSETFROM:+0100
TZOFFSETTO:+0200
TZNAME:CEST
DTSTART:20240331T010000
END:DAYLIGHT
BEGIN:STANDARD
TZOFFSETFROM:+0200
TZOFFSETTO:+0100
TZNAME:CET
DTSTART:20241027T010000
END:STANDARD
BEGIN:DAYLIGHT
TZOFFSETFROM:+0100
TZOFFSETTO:+0200
TZNAME:CEST
DTSTART:20250330T010000
END:DAYLIGHT
BEGIN:STANDARD
TZOFFSETFROM:+0200
TZOFFSETTO:+0100
TZNAME:CET
DTSTART:20251026T010000
END:STANDARD
BEGIN:DAYLIGHT
TZOFFSETFROM:+0100
TZOFFSETTO:+0200
TZNAME:CEST
DTSTART:20260329T010000
END:DAYLIGHT
BEGIN:STANDARD
TZOFFSETFROM:+0200
TZOFFSETTO:+0100
TZNAME:CET
DTSTART:20261025T010000
END:STANDARD
END:VTIMEZONE
BEGIN:VEVENT
DTSTART;TZID=Europe/Berlin:20251113T120000
DTEND;TZID=Europe/Berlin:20251113T160000
DTSTAMP:20260420T145712
CREATED:20251103T095117Z
LAST-MODIFIED:20251103T095117Z
UID:10000119-1763035200-1763049600@prodato.de
SUMMARY:Künstliche Intelligenz in der Praxis
DESCRIPTION:PRODATO beim KI-Event „Künstliche Intelligenz in der Praxis“\nAm 13. November 2025 dreht sich im Heilig-Geist-Saal in Nürnberg alles um den praktischen Einsatz Künstlicher Intelligenz. Unter dem Motto „Künstliche Intelligenz in der Praxis – Impulse für Ihr Unternehmen“ bietet der KI-Tag Nürnberg von 12:00 bis 16:00 Uhr spannende Einblicke und Austauschmöglichkeiten rund um Chancen\, Anwendungen und Fördermöglichkeiten von KI im Mittelstand. \nAuch wir von PRODATO sind mit vor Ort\, wenn Expertinnen und Experten aus Wirtschaft\, Forschung und Verwaltung über erfolgreiche KI-Projekte sprechen und Perspektiven für den Mittelstand aufzeigen. \nWir freuen uns auf den Austausch in Nürnberg und auf viele neue Impulse zu einem Thema\, das die Zukunft der Unternehmenspraxis prägt.
URL:https://prodato.de/veranstaltungen/kuenstliche-intelligenz-in-der-praxis/
LOCATION:Heilig-Geist-Saal\,\, Hans-Sachs-Platz 2\, Nürnberg\, 90403
CATEGORIES:Aktuelles,Machine Learning
ATTACH;FMTTYPE=image/jpeg:https://prodato.de/wp-content/uploads/2025/11/PRODATO_Veranstaltung_KI-Tag.jpg
END:VEVENT
END:VCALENDAR