BEGIN:VCALENDAR
VERSION:2.0
PRODID:-//PRODATO verbindet - ECPv6.15.20//NONSGML v1.0//EN
CALSCALE:GREGORIAN
METHOD:PUBLISH
X-WR-CALNAME:PRODATO verbindet
X-ORIGINAL-URL:https://prodato.de
X-WR-CALDESC:Veranstaltungen für PRODATO verbindet
REFRESH-INTERVAL;VALUE=DURATION:PT1H
X-Robots-Tag:noindex
X-PUBLISHED-TTL:PT1H
BEGIN:VTIMEZONE
TZID:Europe/Berlin
BEGIN:DAYLIGHT
TZOFFSETFROM:+0100
TZOFFSETTO:+0200
TZNAME:CEST
DTSTART:20230326T010000
END:DAYLIGHT
BEGIN:STANDARD
TZOFFSETFROM:+0200
TZOFFSETTO:+0100
TZNAME:CET
DTSTART:20231029T010000
END:STANDARD
BEGIN:DAYLIGHT
TZOFFSETFROM:+0100
TZOFFSETTO:+0200
TZNAME:CEST
DTSTART:20240331T010000
END:DAYLIGHT
BEGIN:STANDARD
TZOFFSETFROM:+0200
TZOFFSETTO:+0100
TZNAME:CET
DTSTART:20241027T010000
END:STANDARD
BEGIN:DAYLIGHT
TZOFFSETFROM:+0100
TZOFFSETTO:+0200
TZNAME:CEST
DTSTART:20250330T010000
END:DAYLIGHT
BEGIN:STANDARD
TZOFFSETFROM:+0200
TZOFFSETTO:+0100
TZNAME:CET
DTSTART:20251026T010000
END:STANDARD
BEGIN:DAYLIGHT
TZOFFSETFROM:+0100
TZOFFSETTO:+0200
TZNAME:CEST
DTSTART:20260329T010000
END:DAYLIGHT
BEGIN:STANDARD
TZOFFSETFROM:+0200
TZOFFSETTO:+0100
TZNAME:CET
DTSTART:20261025T010000
END:STANDARD
END:VTIMEZONE
BEGIN:VEVENT
DTSTART;TZID=Europe/Berlin:20250522T093000
DTEND;TZID=Europe/Berlin:20250523T163000
DTSTAMP:20260420T104401
CREATED:20250424T085103Z
LAST-MODIFIED:20251008T072319Z
UID:10000089-1747906200-1748017800@prodato.de
SUMMARY:Bonding Firmenkontaktmesse Erlangen 2025
DESCRIPTION:PRODATO bei der bonding Firmenkontaktmesse 2025\nInteressierte Studentinnen und Studenten haben am 22. Mai 2025 wieder die Möglichkeit\, unser Unternehmen direkt an ihrer Universität kennenzulernen. Auch dieses Jahr nimmt PRODATO an der BONDING 2025 in der Heinrich-Lades-Halle Erlangen teil. Die studentisch initiierte Firmenkontaktmesse bietet euch die Gelegenheit\, PRODATO als Arbeitgeber kennenzulernen. \nTrefft uns direkt an eurer Fakultät und lernt PRODATO kennen! \nSIE HABEN FRAGEN?KONTAKTIEREN SIE UNS!
URL:https://prodato.de/veranstaltungen/bonding-firmenkontaktmesse-erlangen-2025/
LOCATION:Heinrich-Lades-Halle Erlangen\, Rathausplatz 2\, Erlangen\, Bayern\, 91052\, Germany
CATEGORIES:Kontakt
ATTACH;FMTTYPE=image/png:https://prodato.de/wp-content/uploads/2025/04/BANNER-WEBSITE-AKTUELLES4.png
END:VEVENT
BEGIN:VEVENT
DTSTART;TZID=Europe/Berlin:20240522T093000
DTEND;TZID=Europe/Berlin:20240523T163000
DTSTAMP:20260420T104401
CREATED:20241126T082430Z
LAST-MODIFIED:20251008T071941Z
UID:10000007-1716370200-1716481800@prodato.de
SUMMARY:Bonding Firmenkontaktmesse Erlangen
DESCRIPTION:Interessierte Studentinnen und Studenten haben am 23. Mai 2024 wieder die Möglichkeit\, unser Unternehmen direkt an ihrer Universität kennenzulernen. Auch dieses Jahr nimmt PRODATO an der BONDING 2024 auf dem Gelände der Technischen Fakultät der Universität Erlangen-Nürnberg teil. Die studentisch initiierte Firmenkontaktmesse bietet euch die Gelegenheit\, PRODATO als Arbeitgeber kennenzulernen. \nTrefft uns direkt an eurer Fakultät und lernt PRODATO kennen!
URL:https://prodato.de/veranstaltungen/bonding-firmenkontaktmesse-erlangen/
LOCATION:Heinrich-Lades-Halle Erlangen\, Rathausplatz 2\, Erlangen\, Bayern\, 91052\, Germany
CATEGORIES:Kontakt
ATTACH;FMTTYPE=image/png:https://prodato.de/wp-content/uploads/2024/11/19.png
END:VEVENT
END:VCALENDAR