BEGIN:VCALENDAR
VERSION:2.0
PRODID:-//PRODATO verbindet - ECPv6.15.20//NONSGML v1.0//EN
CALSCALE:GREGORIAN
METHOD:PUBLISH
X-WR-CALNAME:PRODATO verbindet
X-ORIGINAL-URL:https://prodato.de
X-WR-CALDESC:Veranstaltungen für PRODATO verbindet
REFRESH-INTERVAL;VALUE=DURATION:PT1H
X-Robots-Tag:noindex
X-PUBLISHED-TTL:PT1H
BEGIN:VTIMEZONE
TZID:Europe/Berlin
BEGIN:DAYLIGHT
TZOFFSETFROM:+0100
TZOFFSETTO:+0200
TZNAME:CEST
DTSTART:20240331T010000
END:DAYLIGHT
BEGIN:STANDARD
TZOFFSETFROM:+0200
TZOFFSETTO:+0100
TZNAME:CET
DTSTART:20241027T010000
END:STANDARD
BEGIN:DAYLIGHT
TZOFFSETFROM:+0100
TZOFFSETTO:+0200
TZNAME:CEST
DTSTART:20250330T010000
END:DAYLIGHT
BEGIN:STANDARD
TZOFFSETFROM:+0200
TZOFFSETTO:+0100
TZNAME:CET
DTSTART:20251026T010000
END:STANDARD
BEGIN:DAYLIGHT
TZOFFSETFROM:+0100
TZOFFSETTO:+0200
TZNAME:CEST
DTSTART:20260329T010000
END:DAYLIGHT
BEGIN:STANDARD
TZOFFSETFROM:+0200
TZOFFSETTO:+0100
TZNAME:CET
DTSTART:20261025T010000
END:STANDARD
BEGIN:DAYLIGHT
TZOFFSETFROM:+0100
TZOFFSETTO:+0200
TZNAME:CEST
DTSTART:20270328T010000
END:DAYLIGHT
BEGIN:STANDARD
TZOFFSETFROM:+0200
TZOFFSETTO:+0100
TZNAME:CET
DTSTART:20271031T010000
END:STANDARD
END:VTIMEZONE
BEGIN:VEVENT
DTSTART;VALUE=DATE:20260316
DTEND;VALUE=DATE:20260318
DTSTAMP:20260420T102658
CREATED:20260108T134632Z
LAST-MODIFIED:20260109T071218Z
UID:10000125-1773619200-1773791999@prodato.de
SUMMARY:Big Data Minds Europe 2026
DESCRIPTION:Dataciders auf der Big Data Minds Europe 2026\nWenn aus Daten echte Wertschöpfung entstehen soll\, braucht es mehr als moderne Tools\, entscheidend ist ein belastbares und skalierbares Datenfundament. Genau hier setzt die Big Data Minds Europe 2026 an. Am 16. & 17. März 2026 trifft sich die europäische Data-Community im Holiday Inn Munich City Center in München\, um den nächsten Schritt von Big zu Smart Data zu diskutieren. \nAls führender europäischer Summit für Data Management bringt die Veranstaltung über 400 Data-Entscheider\, Praktiker und Lösungsanbieter zusammen. Im Fokus stehen moderne\, AI-fähige Datenarchitekturen\, darunter Data Fabric\, Data Mesh\, Lakehouse-Ansätze\, Multi-Cloud-Infrastrukturen sowie Event-Driven Streaming für Echtzeitentscheidungen. Ergänzt wird das Programm durch Themen wie Data Engineering\, DataOps\, Governance\, Security\, Integration und Pipeline-Observability\, untermauert durch praxisnahe Case Studies aus großen Organisationen. \nAls Dataciders bringen auch wir unsere Erfahrung ein\, wie Architektur\, Integration und Governance zusammenspielen müssen\, damit Daten nicht nur verfügbar sind\, sondern nachhaltig nutzbar werden – für Analytics\, operative Entscheidungen und KI-Anwendungen gleichermaßen. \nWir freuen uns auf intensive Diskussionen\, neue Impulse und den persönlichen Austausch mit der europäischen Data-Community in München.
URL:https://prodato.de/veranstaltungen/big-data-minds-europe-2026/
LOCATION:Holiday Inn City Center Munich\, Hochstraße 3\, München\, 81669\, Germany
CATEGORIES:Aktuelles
ATTACH;FMTTYPE=image/png:https://prodato.de/wp-content/uploads/2026/01/5.png
END:VEVENT
BEGIN:VEVENT
DTSTART;VALUE=DATE:20250309
DTEND;VALUE=DATE:20250312
DTSTAMP:20260420T102658
CREATED:20250219T110851Z
LAST-MODIFIED:20251020T070615Z
UID:10000078-1741478400-1741737599@prodato.de
SUMMARY:Business Intelligence Minds mit CData
DESCRIPTION:Wir sind begeistert\, dieses Jahr auf der Business Intelligence Minds mit unserem Technologiepartner CData Software (ehemalige Data Virtuality) vertreten zu sein! Vom 09. bis 11. März 2025 verwandelt sich das Holiday Inn City Center in München in einen Hotspot für moderne BI-Lösungen\, innovative Datenanalysen und inspirierende Vorträge. \nErleben Sie\, wie intelligente BI-Tools Unternehmen dabei unterstützen\, fundierte Entscheidungen zu treffen und nachhaltige Strategien zu entwickeln. Wir freuen uns darauf\, Sie in München zu treffen und gemeinsam spannende Impulse für die Zukunft der Business Intelligence zu setzen! \nWenn Sie an einem persönlichen Austausch interessiert sind\, vereinbaren Sie gerne vorab einen Termin mit uns. \nVortrag: Sales vs. IT Divide Resolved: From Data Tug-of-War to the Golden Bridge\n\nDate: 10.03.2025\nTime: from 09:55 to 10:35\n\nAbstract \nNavigating data priorities between business teams and IT is often a balancing act—businesses seek speed and accessibility\, while IT focuses on security and governance. These differing perspectives can lead to friction\, slowing down insights and decision-making. But what if there were a golden bridge that meets the needs of both? \nIn this engaging\, role-play-driven session\, we’ll bring the Sales vs. IT dilemma to life—showcasing common conflicts and\, more importantly\, how data integration serves as the foundation for resolution. Beyond simply bridging the gap\, a well-integrated data strategy lays the groundwork for AI-driven business intelligence\, unlocking new levels of automation\, insight generation\, and strategic decision-making. \nJoin us to witness the conflict\, explore the resolution\, and discover how data integration doesn’t just align Sales and IT—it also enables AI to transform the way businesses operate. \nJoin this session as we discuss \n\nThe root causes of the data tug-of-war between business and IT\nHow different approaches to data integration impact collaboration and efficiency\nThe role of data integration in enabling AI-driven business intelligence\n\nSpeaker \nDr. Peter Schwab\, Dipl.-Inf. (Univ.)\, Lead Consultant \nDr. Peter Schwab is the Lead Consultant at the IT service provider PRODATO Integration Technology GmbH. Since 2019\, he has been assisting clients with data integration and analysis\, developing solutions for data- and process-centric challenges. Before transitioning to the industry\, he conducted research in the field of query-driven data management at the University of Erlangen-Nuremberg\, where he continues to serve as a lecturer in the area of process-oriented information systems. \nTammie Coles\, EMEA Sales Director \nWith over 25 years in IT and a decade of expertise in data integration\, Tammie Coles is passionate about helping organizations tackle their most complex data challenges. She takes a collaborative approach\, working alongside teams to unlock the full potential of their data\, always focusing on practical\, impactful solutions. While solving data challenges is serious business\, she brings a pinch of humour to the process—decoupling complexity and turning it into a seamless path forward.
URL:https://prodato.de/veranstaltungen/business-intelligence-minds-mit-cdata/
LOCATION:Holiday Inn City Center Munich\, Hochstraße 3\, München\, 81669\, Germany
CATEGORIES:Aktuelles
ATTACH;FMTTYPE=image/png:https://prodato.de/wp-content/uploads/2025/02/BANNER-WEBSITE-AKTUELLES-7.png
END:VEVENT
END:VCALENDAR