BEGIN:VCALENDAR
VERSION:2.0
PRODID:-//PRODATO verbindet - ECPv6.15.20//NONSGML v1.0//EN
CALSCALE:GREGORIAN
METHOD:PUBLISH
X-WR-CALNAME:PRODATO verbindet
X-ORIGINAL-URL:https://prodato.de
X-WR-CALDESC:Veranstaltungen für PRODATO verbindet
REFRESH-INTERVAL;VALUE=DURATION:PT1H
X-Robots-Tag:noindex
X-PUBLISHED-TTL:PT1H
BEGIN:VTIMEZONE
TZID:Europe/Berlin
BEGIN:DAYLIGHT
TZOFFSETFROM:+0100
TZOFFSETTO:+0200
TZNAME:CEST
DTSTART:20250330T010000
END:DAYLIGHT
BEGIN:STANDARD
TZOFFSETFROM:+0200
TZOFFSETTO:+0100
TZNAME:CET
DTSTART:20251026T010000
END:STANDARD
BEGIN:DAYLIGHT
TZOFFSETFROM:+0100
TZOFFSETTO:+0200
TZNAME:CEST
DTSTART:20260329T010000
END:DAYLIGHT
BEGIN:STANDARD
TZOFFSETFROM:+0200
TZOFFSETTO:+0100
TZNAME:CET
DTSTART:20261025T010000
END:STANDARD
BEGIN:DAYLIGHT
TZOFFSETFROM:+0100
TZOFFSETTO:+0200
TZNAME:CEST
DTSTART:20270328T010000
END:DAYLIGHT
BEGIN:STANDARD
TZOFFSETFROM:+0200
TZOFFSETTO:+0100
TZNAME:CET
DTSTART:20271031T010000
END:STANDARD
END:VTIMEZONE
BEGIN:VEVENT
DTSTART;VALUE=DATE:20260210
DTEND;VALUE=DATE:20260213
DTSTAMP:20260420T153950
CREATED:20260108T130018Z
LAST-MODIFIED:20260109T071125Z
UID:10000123-1770681600-1770940799@prodato.de
SUMMARY:E-World energy & water Essen 2025
DESCRIPTION:Dataciders auf der E-world energy & water 2026\nDie E-world energy & water ist ein zentraler Branchentreffpunkt der europäischen Energiewirtschaft. Vom 10. bis 12. Februar 2026 kommen in Essen Unternehmen\, Entscheiderinnen und Entscheider sowie Fachpublikum aus Energieversorgung\, Energiedienstleistungen\, IT\, Energiehandel\, Netzen und Industrie zusammen\, um über nachhaltige Technologien\, intelligente Dienstleistungen und Lösungen für die Energiezukunft zu diskutieren. \nAuch wir sind als Dataciders auf der E-world vor Ort und beteiligen uns am fachlichen Austausch rund um die Frage\, wie sich die wachsende Komplexität im Energiesystem datenbasiert beherrschbar machen lässt. Im Fokus stehen dabei klare Datenarchitekturen\, eindeutige Verantwortlichkeiten und Analytics\, die Transparenz schaffen und fundierte Entscheidungen unterstützen. Künstliche Intelligenz sehen wir dabei nicht als Selbstzweck\, sondern als nächsten konsequenten Schritt auf Basis eines belastbaren Datenfundaments. \nWir freuen uns darauf\, in Essen mit Ihnen ins Gespräch zu kommen und gemeinsam Perspektiven für ein leistungsfähiges und zukunftssicheres Energiesystem zu diskutieren.
URL:https://prodato.de/veranstaltungen/e-world-energy-water-essen-2025/
LOCATION:Messe Essen\, Messeplatz 1\, Essen\, 45131\, Germany
CATEGORIES:Aktuelles
ATTACH;FMTTYPE=image/png:https://prodato.de/wp-content/uploads/2026/01/2.png
END:VEVENT
END:VCALENDAR