BEGIN:VCALENDAR
VERSION:2.0
PRODID:-//PRODATO verbindet - ECPv6.15.20//NONSGML v1.0//EN
CALSCALE:GREGORIAN
METHOD:PUBLISH
X-WR-CALNAME:PRODATO verbindet
X-ORIGINAL-URL:https://prodato.de
X-WR-CALDESC:Veranstaltungen für PRODATO verbindet
REFRESH-INTERVAL;VALUE=DURATION:PT1H
X-Robots-Tag:noindex
X-PUBLISHED-TTL:PT1H
BEGIN:VTIMEZONE
TZID:Europe/Berlin
BEGIN:DAYLIGHT
TZOFFSETFROM:+0100
TZOFFSETTO:+0200
TZNAME:CEST
DTSTART:20220327T010000
END:DAYLIGHT
BEGIN:STANDARD
TZOFFSETFROM:+0200
TZOFFSETTO:+0100
TZNAME:CET
DTSTART:20221030T010000
END:STANDARD
BEGIN:DAYLIGHT
TZOFFSETFROM:+0100
TZOFFSETTO:+0200
TZNAME:CEST
DTSTART:20230326T010000
END:DAYLIGHT
BEGIN:STANDARD
TZOFFSETFROM:+0200
TZOFFSETTO:+0100
TZNAME:CET
DTSTART:20231029T010000
END:STANDARD
BEGIN:DAYLIGHT
TZOFFSETFROM:+0100
TZOFFSETTO:+0200
TZNAME:CEST
DTSTART:20240331T010000
END:DAYLIGHT
BEGIN:STANDARD
TZOFFSETFROM:+0200
TZOFFSETTO:+0100
TZNAME:CET
DTSTART:20241027T010000
END:STANDARD
BEGIN:DAYLIGHT
TZOFFSETFROM:+0100
TZOFFSETTO:+0200
TZNAME:CEST
DTSTART:20250330T010000
END:DAYLIGHT
BEGIN:STANDARD
TZOFFSETFROM:+0200
TZOFFSETTO:+0100
TZNAME:CET
DTSTART:20251026T010000
END:STANDARD
BEGIN:DAYLIGHT
TZOFFSETFROM:+0100
TZOFFSETTO:+0200
TZNAME:CEST
DTSTART:20260329T010000
END:DAYLIGHT
BEGIN:STANDARD
TZOFFSETFROM:+0200
TZOFFSETTO:+0100
TZNAME:CET
DTSTART:20261025T010000
END:STANDARD
END:VTIMEZONE
BEGIN:VEVENT
DTSTART;TZID=Europe/Berlin:20251125T090000
DTEND;TZID=Europe/Berlin:20251127T170000
DTSTAMP:20260420T085603
CREATED:20250804T132315Z
LAST-MODIFIED:20251118T043647Z
UID:10000113-1764061200-1764262800@prodato.de
SUMMARY:Smart Production Solutions EXPO 2025
DESCRIPTION:PRODATO auf der SPS – Smart Production Solutions 2025\nDie SPS – Smart Production Solutions ist weit mehr als eine Messe – sie ist der zentrale Treffpunkt für smarte und digitale Automatisierung. Vom 25. bis 27. November 2025 zeigen über 1.100 Aussteller in Nürnberg\, was heute möglich ist und was morgen den Unterschied macht. \nAuch wir von PRODATO sind mit dabei\, wenn Innovation auf Umsetzung trifft. Wir bringen unsere Expertise in datengetriebener Prozessoptimierung\, Industrial Analytics und KI-gestützter Automatisierung ein und zeigen\, wie Unternehmen ihre Prozesse effizienter\, vernetzter und zukunftssicher gestalten können. \nEin besonderes Highlight: Am Mittwoch\, den 26. November 2025\, von 15:20 bis 15:40 Uhr präsentiert Melanie B. Sigl auf der Stage in Halle 1 ihren Vortrag „Skalierbare Optimierung von Großanlagen mit MLOps“. Sie zeigt\, wie Maschinelles Lernen als digitaler Zwilling die Optimierung von Anlageneinstellungen erleichtert und wie sich erfolgreiche Proof of Concepts in skalierbare Cloud- und MLOps-Prozesse überführen lassen. \nEs erwarten Sie drei Tage voller Zukunftsimpulse\, praxisnaher Anwendungen und intensiven Austauschs. \nWir freuen uns\, Sie auf der SPS in Nürnberg zu treffen! Sie finden uns in Halle 6 am Stand 6-123. \nJetzt kostenfreies Ticket sichern
URL:https://prodato.de/veranstaltungen/smart-production-solutions-expo-2025/
LOCATION:Messe Nürnberg\, Messezentrum Ost\, Nürnberg\, 90471
CATEGORIES:Prozessautomatisierung
ATTACH;FMTTYPE=image/png:https://prodato.de/wp-content/uploads/2025/08/SPS-EXPO-2025.png
END:VEVENT
BEGIN:VEVENT
DTSTART;VALUE=DATE:20241120
DTEND;VALUE=DATE:20241123
DTSTAMP:20260420T085603
CREATED:20241010T113740Z
LAST-MODIFIED:20250129T112114Z
UID:10000010-1732060800-1732319999@prodato.de
SUMMARY:KI Navigator 2024
DESCRIPTION:PRODATO BEI DER KI NAVIGATOR 2024 – ST. PETERSBURG\nWir freuen uns\, auch dieses Jahr wieder auf der KI Navigator 2024 vertreten zu sein! Die Veranstaltung findet im Rahmen der DOAG Konferenz und Ausstellung statt und bietet eine herausragende Plattform\, um tief in die Welt der Künstlichen Intelligenz einzutauchen. Wir sind mit einem eigenen Stand präsent und laden euch herzlich ein\, uns dort zu besuchen. \nEin besonderes Highlight ist unser Vortrag „Chat with your Data: Sprachmodelle für den Datenzugriff der Zukunft“ von unserer Kollegin Melanie B. Sigl\, der am Mittwoch\, den 20.11.2024\, von 15:30 bis 16:15 Uhr in der Räumlichkeit St. Petersburg stattfinden wird. In dieser Session wird sie zeigen\, wie moderne Sprachmodelle genutzt werden können\, um den Zugang zu Daten zu revolutionieren – von der natürlichen Sprachverarbeitung bis hin zur vollautomatischen Synthese von Antworten. Sie wird dabei auf praktische Anwendungsfälle eingehen und aufzeigen\, wo die Stärken und Grenzen von Sprachmodellen liegen. Der Vortrag bietet nicht nur wertvolle Einblicke in die Zukunft des Datenzugriffs\, sondern auch Best Practices\, die direkt in Unternehmen umgesetzt werden können. \nDie KI Navigator konzentriert sich auf die praktische Anwendung von KI und deren Einfluss auf Technologie\, Wirtschaft und Gesellschaft. Hier treffen sich Entscheiderinnen und Entscheider\, um gemeinsam die Chancen und Herausforderungen der KI zu diskutieren und neue Lösungen zu erarbeiten. \nVerpasst nicht die Chance\, mit uns in den Austausch zu treten und mehr darüber zu erfahren\, wie wir bei PRODATO KI in die Praxis umsetzen. Besucht uns an unserem Stand\, lasst uns über eure Ideen sprechen und erfahrt mehr über unsere neuesten Projekte. \nWir freuen uns darauf\, euch auf der KI Navigator persönlich zu treffen!
URL:https://prodato.de/veranstaltungen/ki-navigator-2024-2/
LOCATION:Messe Nürnberg\, Messezentrum Ost\, Nürnberg\, 90471
CATEGORIES:Machine Learning
ATTACH;FMTTYPE=image/png:https://prodato.de/wp-content/uploads/2024/10/6.png
END:VEVENT
BEGIN:VEVENT
DTSTART;TZID=Europe/Berlin:20241119T080000
DTEND;TZID=Europe/Berlin:20241122T170000
DTSTAMP:20260420T085603
CREATED:20241115T103019Z
LAST-MODIFIED:20251008T072048Z
UID:10000002-1732003200-1732294800@prodato.de
SUMMARY:DOAG 2024 Konferenz + Ausstellung
DESCRIPTION:DOAG 2024 KONFERENZ+ AUSTELLUNG\nWie auch letztes Jahr sind wir mit einem Vortrag auf der diesjährigen DOAG 2024 Konferenz und Ausstellung vertreten – einer der wichtigsten Veranstaltungen für Oracle-Technologien im deutschsprachigen Raum. Die DOAG bietet euch die perfekte Gelegenheit\, euch über die neuesten Entwicklungen in der Oracle-Welt zu informieren und praxisnahe Einblicke in innovative Lösungen und Best Practices zu gewinnen. \nAm Donnerstag\, den 21.11.2024 von13:00 – 13:45 Uhr\, hält Dr. Lena Rudenko ihren Vortrag „Out of Place Patching in Windows Environment“ in den Räumlichkeiten Stockholm. \nKommen Sie vorbei und lassen Sie uns ins Gespräch kommen! Wir freuen uns auf spannende Diskussionen und darauf\, Sie bei dem Vortrag zu treffen.
URL:https://prodato.de/veranstaltungen/doag-2024-konferenz-ausstellung/
LOCATION:Messe Nürnberg\, Messezentrum Ost\, Nürnberg\, 90471
CATEGORIES:Oracle
ATTACH;FMTTYPE=image/png:https://prodato.de/wp-content/uploads/2024/11/5.png
END:VEVENT
BEGIN:VEVENT
DTSTART;TZID=Europe/Berlin:20240611T090000
DTEND;TZID=Europe/Berlin:20240613T170000
DTSTAMP:20260420T085603
CREATED:20240305T110218Z
LAST-MODIFIED:20251020T070712Z
UID:10000029-1718096400-1718298000@prodato.de
SUMMARY:PRODATO auf der Sensor+Test 2024
DESCRIPTION:PRODATO freut sich\, dieses Jahr auf der SENSOR+TEST 2024 vertreten zu sein\, dem weltweit führenden Forum für Sensorik\, Mess- und Prüftechnik.\nVom 11. bis 13. Juni 2024 erwartet Sie in Nürnberg ein umfassendes Spektrum der messtechnischen Systemkompetenz\, von der Sensorik bis hin zur Auswertung. \nIn der ‚Calibration Area‘ bieten zahlreiche Aussteller unter dem Motto „Innovative Calibration“ einen Blick in die Zukunft der Präzisionsmessung und Kalibrierung. Wir laden Sie herzlich ein\, uns in dieser inspirierenden Umgebung zu besuchen\, um tiefer in die Welt der digitalen Konzepte und Herausforderungen des Kalibrierens einzutauchen. \nBesuchen sie uns gerne bei Halle 1 Stand 1-430\, um sich mit uns und anderen führenden Experten auszutauschen\, ihr Wissen zu erweitern und sich über die neuesten Innovationen und Trends zu informieren!
URL:https://prodato.de/veranstaltungen/sensor-test-2024/
LOCATION:Messe Nürnberg\, Messezentrum Ost\, Nürnberg\, 90471
CATEGORIES:Aktuelles,Kontakt
ATTACH;FMTTYPE=image/png:https://prodato.de/wp-content/uploads/2024/03/29.png
END:VEVENT
BEGIN:VEVENT
DTSTART;TZID=Europe/Berlin:20231114T090000
DTEND;TZID=Europe/Berlin:20231116T170000
DTSTAMP:20260420T085603
CREATED:20230815T113553Z
LAST-MODIFIED:20250129T120122Z
UID:10000044-1699952400-1700154000@prodato.de
SUMMARY:Smart Production Solutions - Bringing Automation to Life
DESCRIPTION:Wir freuen uns\, dass PRODATO zum ersten Mal auf der SPS-Messe (Smart Production Solutions) dabei sein wird! Besuchen Sie uns vom 14.-16.11.2023 in Nürnberg und erleben Sie top aktuelle Themenblöcke: \n– Industrie 4.0 Integration: Entdecken Sie\, wie Sie mehr aus Ihren Daten herausholen. \n– Innovative Automatisierungslösungen: Erfahren Sie\, wie unsere Technologien Produktivität und Effizienz steigern. \n– Individuelle Beratung: Sprechen Sie mit unseren Experten über maßgeschneiderte Lösungen für Ihre Anforderungen. \nKey factsThema \n#Automation #Industry4.0 #Technology
URL:https://prodato.de/veranstaltungen/16-sps-1/
LOCATION:Messe Nürnberg\, Messezentrum Ost\, Nürnberg\, 90471
ATTACH;FMTTYPE=image/png:https://prodato.de/wp-content/uploads/2023/08/45.png
END:VEVENT
END:VCALENDAR