BEGIN:VCALENDAR
VERSION:2.0
PRODID:-//PRODATO verbindet - ECPv6.15.20//NONSGML v1.0//EN
CALSCALE:GREGORIAN
METHOD:PUBLISH
X-WR-CALNAME:PRODATO verbindet
X-ORIGINAL-URL:https://prodato.de
X-WR-CALDESC:Veranstaltungen für PRODATO verbindet
REFRESH-INTERVAL;VALUE=DURATION:PT1H
X-Robots-Tag:noindex
X-PUBLISHED-TTL:PT1H
BEGIN:VTIMEZONE
TZID:Europe/Berlin
BEGIN:DAYLIGHT
TZOFFSETFROM:+0100
TZOFFSETTO:+0200
TZNAME:CEST
DTSTART:20240331T010000
END:DAYLIGHT
BEGIN:STANDARD
TZOFFSETFROM:+0200
TZOFFSETTO:+0100
TZNAME:CET
DTSTART:20241027T010000
END:STANDARD
BEGIN:DAYLIGHT
TZOFFSETFROM:+0100
TZOFFSETTO:+0200
TZNAME:CEST
DTSTART:20250330T010000
END:DAYLIGHT
BEGIN:STANDARD
TZOFFSETFROM:+0200
TZOFFSETTO:+0100
TZNAME:CET
DTSTART:20251026T010000
END:STANDARD
BEGIN:DAYLIGHT
TZOFFSETFROM:+0100
TZOFFSETTO:+0200
TZNAME:CEST
DTSTART:20260329T010000
END:DAYLIGHT
BEGIN:STANDARD
TZOFFSETFROM:+0200
TZOFFSETTO:+0100
TZNAME:CET
DTSTART:20261025T010000
END:STANDARD
END:VTIMEZONE
BEGIN:VEVENT
DTSTART;TZID=Europe/Berlin:20250916T093000
DTEND;TZID=Europe/Berlin:20250918T153000
DTSTAMP:20260420T143104
CREATED:20250711T075924Z
LAST-MODIFIED:20251020T070128Z
UID:10000111-1758015000-1758209400@prodato.de
SUMMARY:DSAG-Jahreskongress 2025
DESCRIPTION:PRODATO beim DSAG-Jahreskongress 2025 \nBalance zwischen Innovation und Realität – unter diesem Leitthema bringt der DSAG-Jahreskongress 2025 vom 16. bis 18. September wieder SAP-Anwenderunternehmen\, SAP-Expertinnen und -Experten sowie Partner in Bremen zusammen. Wir von PRODATO sind mit dabei\, wenn sich alles um die Frage dreht\, wie der Weg in die Cloud nicht nur technisch\, sondern auch strategisch gelingen kann. \nUnter dem Motto „The Art of Balance – Alles eine Frage der Ballons?“ steht der diesjährige Kongress ganz im Zeichen der Transformation: Cloud-Technologien versprechen Tempo und Flexibilität\, gleichzeitig gilt es\, bestehende Prozesse\, Investitionen und Rahmenbedingungen mitzudenken. \nWir kennen die Herausforderungen\, die mit technologischem Wandel einhergehen – und setzen auf pragmatische Ansätze\, durchdachte Strategien und Lösungen\, die sich in der Praxis bewähren. Genau darüber möchten wir mit Ihnen ins Gespräch kommen – wir freuen uns auf den Austausch in Bremen! \nSie finden uns gemeinsam mit Dataciders in Halle 5 am Stand G11.
URL:https://prodato.de/veranstaltungen/dsag-jahreskongress-2025/
LOCATION:MESSE UND CONGRESS CENTRUM BREMEN\, Theodor-Heuss-Allee\, Bremen\, 28215\, Germany
CATEGORIES:Aktuelles
ATTACH;FMTTYPE=image/jpeg:https://prodato.de/wp-content/uploads/2025/07/BANNER-WEBSITE-AKTUELLES-2.jpg
END:VEVENT
END:VCALENDAR