BEGIN:VCALENDAR
VERSION:2.0
PRODID:-//PRODATO verbindet - ECPv6.15.20//NONSGML v1.0//EN
CALSCALE:GREGORIAN
METHOD:PUBLISH
X-WR-CALNAME:PRODATO verbindet
X-ORIGINAL-URL:https://prodato.de
X-WR-CALDESC:Veranstaltungen für PRODATO verbindet
REFRESH-INTERVAL;VALUE=DURATION:PT1H
X-Robots-Tag:noindex
X-PUBLISHED-TTL:PT1H
BEGIN:VTIMEZONE
TZID:Europe/Berlin
BEGIN:DAYLIGHT
TZOFFSETFROM:+0100
TZOFFSETTO:+0200
TZNAME:CEST
DTSTART:20220327T010000
END:DAYLIGHT
BEGIN:STANDARD
TZOFFSETFROM:+0200
TZOFFSETTO:+0100
TZNAME:CET
DTSTART:20221030T010000
END:STANDARD
BEGIN:DAYLIGHT
TZOFFSETFROM:+0100
TZOFFSETTO:+0200
TZNAME:CEST
DTSTART:20230326T010000
END:DAYLIGHT
BEGIN:STANDARD
TZOFFSETFROM:+0200
TZOFFSETTO:+0100
TZNAME:CET
DTSTART:20231029T010000
END:STANDARD
BEGIN:DAYLIGHT
TZOFFSETFROM:+0100
TZOFFSETTO:+0200
TZNAME:CEST
DTSTART:20240331T010000
END:DAYLIGHT
BEGIN:STANDARD
TZOFFSETFROM:+0200
TZOFFSETTO:+0100
TZNAME:CET
DTSTART:20241027T010000
END:STANDARD
END:VTIMEZONE
BEGIN:VEVENT
DTSTART;TZID=Europe/Berlin:20231019T103000
DTEND;TZID=Europe/Berlin:20231019T133000
DTSTAMP:20260422T142648
CREATED:20231004T083801Z
LAST-MODIFIED:20250129T120235Z
UID:10000043-1697711400-1697722200@prodato.de
SUMMARY:Business Brunch in München mit Talend
DESCRIPTION:Liegen auch bei Ihren Fachbereichen die meisten Daten in einer Excel-Tabelle? Verständlich\, da dies ein gewohntes und damit ein einfaches Werkzeug ist\, um Informationen zu sammeln und auszutauschen. Mit steigender Komplexität verliert man aber zwischen Formeln und Makros leicht den Überblick. Diverse Low- Code Lösungen versuchen\, diesem Problem mit einfachen Oberflächen\, zentraler Datenerfassung und Integration der Fachabteilung in die Anwendungsentwicklung entgegenzuwirken. Wie aber kann die Integration dieser Lösungen in die existierende IT-Landschaft gelingen? \nGenau auf dieses Thema gehen wir bei unserem Business Brunch ein und zeigen Ihnen die elegante Lösung mit Talend! \nSpeaker. Speaker \nManuel Becker\,\nProduct Owner – Engineering Data Manager\, Linde \nSpeaker \nJan Wetzke\nVP Regional Sales Central & Eastern Europe at Talend\, A Qlik company
URL:https://prodato.de/veranstaltungen/businessbrunch-prodato-mit-talend/
LOCATION:Mindspace Stachus\, Herzogspitalstraße 24\, München\, Bayern\, 80331
CATEGORIES:Talend
ATTACH;FMTTYPE=image/png:https://prodato.de/wp-content/uploads/2023/10/44.png
END:VEVENT
END:VCALENDAR