BEGIN:VCALENDAR
VERSION:2.0
PRODID:-//PRODATO verbindet - ECPv6.15.20//NONSGML v1.0//EN
CALSCALE:GREGORIAN
METHOD:PUBLISH
X-ORIGINAL-URL:https://prodato.de
X-WR-CALDESC:Veranstaltungen für PRODATO verbindet
REFRESH-INTERVAL;VALUE=DURATION:PT1H
X-Robots-Tag:noindex
X-PUBLISHED-TTL:PT1H
BEGIN:VTIMEZONE
TZID:Europe/Berlin
BEGIN:DAYLIGHT
TZOFFSETFROM:+0100
TZOFFSETTO:+0200
TZNAME:CEST
DTSTART:20230326T010000
END:DAYLIGHT
BEGIN:STANDARD
TZOFFSETFROM:+0200
TZOFFSETTO:+0100
TZNAME:CET
DTSTART:20231029T010000
END:STANDARD
BEGIN:DAYLIGHT
TZOFFSETFROM:+0100
TZOFFSETTO:+0200
TZNAME:CEST
DTSTART:20240331T010000
END:DAYLIGHT
BEGIN:STANDARD
TZOFFSETFROM:+0200
TZOFFSETTO:+0100
TZNAME:CET
DTSTART:20241027T010000
END:STANDARD
BEGIN:DAYLIGHT
TZOFFSETFROM:+0100
TZOFFSETTO:+0200
TZNAME:CEST
DTSTART:20250330T010000
END:DAYLIGHT
BEGIN:STANDARD
TZOFFSETFROM:+0200
TZOFFSETTO:+0100
TZNAME:CET
DTSTART:20251026T010000
END:STANDARD
END:VTIMEZONE
BEGIN:VEVENT
DTSTART;VALUE=DATE:20240319
DTEND;VALUE=DATE:20240320
DTSTAMP:20260422T143252
CREATED:20240221T103956Z
LAST-MODIFIED:20251020T070738Z
UID:10000025-1710806400-1710892799@prodato.de
SUMMARY:PRODATO auf dem Data Festival
DESCRIPTION:Evolution of Modern Data Architecture: A Practical Journey\nWann? 19. März\, 10:45 Uhr\nSpeaker: Sebastian Drozdz\, Data Cloud Platform Architect \n\nSebastian Drozdz is a Data Cloud Platform Architect at PartnerRe\, a global reinsurance company with operations across multiple lines of business. He brings over 20 years of experience in data development and architecture\, with an industry background spanning finance\, pharmaceuticals\, and retail. Currently\, Sebastian and his team are developing a global data platform designed to support the core business functions of PartnerRe. Their objective is to establish a cloud-native environment that prioritizes agility and technological advancement.\n\nIn Cooperation with PartnerRE \nIn this presentation\, Sebastian will share his real-world experience navigating a modern data architecture landscape over the past five years. He’ll reflect on the initial motivations that sparked this journey\, the structure of his contemporary data architecture\, the value he could generate\, and the obstacles he faced along the way. Additionally\, Sebastian will offer valuable insights into his current and future endeavors\, including leveraging SaaS\, advancing AI initiatives\, and rapidly developing new regulatory reports\, all facilitated by the robust framework of modern data architecture. \nThe main focus areas of this presentation will be: \n\nIntegrating diverse data management techniques\, such as data virtualization and ELT\, into a unified platform.\nDeveloping a core business logic layer tailored for data-heavy\, IT-centric applications.\nEmpowering and skilling ‚Data Citizens‘ to effectively utilize this data architecture.\nFacilitating both current and prospective use cases through this architecture.\n\nBesuchen Sie uns\, um Einblicke in diesen innovativen Ansatz zu gewinnen und zu erfahren\, wie Sie ähnliche Herausforderungen in Ihrem Unternehmen meistern können. Wir freuen uns darauf\, Sie bei diesem spannenden Vortrag zu begrüßen!
URL:https://prodato.de/veranstaltungen/data-festival-2024/
LOCATION:Muffatwerk\, Zellstraße 4\, München\, 81667
CATEGORIES:Kontakt
ATTACH;FMTTYPE=image/png:https://prodato.de/wp-content/uploads/2024/02/31.png
END:VEVENT
END:VCALENDAR