BEGIN:VCALENDAR
VERSION:2.0
PRODID:-//PRODATO verbindet - ECPv6.15.20//NONSGML v1.0//EN
CALSCALE:GREGORIAN
METHOD:PUBLISH
X-WR-CALNAME:PRODATO verbindet
X-ORIGINAL-URL:https://prodato.de
X-WR-CALDESC:Veranstaltungen für PRODATO verbindet
REFRESH-INTERVAL;VALUE=DURATION:PT1H
X-Robots-Tag:noindex
X-PUBLISHED-TTL:PT1H
BEGIN:VTIMEZONE
TZID:Europe/Berlin
BEGIN:DAYLIGHT
TZOFFSETFROM:+0100
TZOFFSETTO:+0200
TZNAME:CEST
DTSTART:20210328T010000
END:DAYLIGHT
BEGIN:STANDARD
TZOFFSETFROM:+0200
TZOFFSETTO:+0100
TZNAME:CET
DTSTART:20211031T010000
END:STANDARD
BEGIN:DAYLIGHT
TZOFFSETFROM:+0100
TZOFFSETTO:+0200
TZNAME:CEST
DTSTART:20220327T010000
END:DAYLIGHT
BEGIN:STANDARD
TZOFFSETFROM:+0200
TZOFFSETTO:+0100
TZNAME:CET
DTSTART:20221030T010000
END:STANDARD
BEGIN:DAYLIGHT
TZOFFSETFROM:+0100
TZOFFSETTO:+0200
TZNAME:CEST
DTSTART:20230326T010000
END:DAYLIGHT
BEGIN:STANDARD
TZOFFSETFROM:+0200
TZOFFSETTO:+0100
TZNAME:CET
DTSTART:20231029T010000
END:STANDARD
BEGIN:DAYLIGHT
TZOFFSETFROM:+0100
TZOFFSETTO:+0200
TZNAME:CEST
DTSTART:20240331T010000
END:DAYLIGHT
BEGIN:STANDARD
TZOFFSETFROM:+0200
TZOFFSETTO:+0100
TZNAME:CET
DTSTART:20241027T010000
END:STANDARD
BEGIN:DAYLIGHT
TZOFFSETFROM:+0100
TZOFFSETTO:+0200
TZNAME:CEST
DTSTART:20250330T010000
END:DAYLIGHT
BEGIN:STANDARD
TZOFFSETFROM:+0200
TZOFFSETTO:+0100
TZNAME:CET
DTSTART:20251026T010000
END:STANDARD
BEGIN:DAYLIGHT
TZOFFSETFROM:+0100
TZOFFSETTO:+0200
TZNAME:CEST
DTSTART:20260329T010000
END:DAYLIGHT
BEGIN:STANDARD
TZOFFSETFROM:+0200
TZOFFSETTO:+0100
TZNAME:CET
DTSTART:20261025T010000
END:STANDARD
END:VTIMEZONE
BEGIN:VEVENT
DTSTART;TZID=Europe/Berlin:20250703T170000
DTEND;TZID=Europe/Berlin:20250703T220000
DTSTAMP:20260422T145813
CREATED:20250424T084957Z
LAST-MODIFIED:20251008T072609Z
UID:10000088-1751562000-1751580000@prodato.de
SUMMARY:Pitch Club Developer Edition #221
DESCRIPTION:PRODATO bei der Pitch Club Developer Edition #221– Nürnberg\nAm 03. Juli 2025 werden wir „im Ring“ alles geben um Softwareentwickler/-innen und IT-Professionals zu „pitchen“.\nBei den Pitch Club Events wird der Spieß umgedreht: die Unternehmen und Start-Ups müssen sich bei den Kandidaten und Kandidatinnen in kurzen Pitches vorstellen und diese von sich überzeugen. Nach jedem Pitch hat das Publikum die Gelegenheit\, in Q&A-Runden die ersten kritischen Fragen an die Unternehmen zu richten und diese auf Herz und Nieren zu prüfen. Weitere offene Punkte können anschließend bei After-Work-Atmosphäre in 1-on-1 Gesprächen besprochen werden.\nDu bist Softwareentwickler/-in oder IT-Professional und auf der Suche nach einer neuen beruflichen Herausforderung? Dann melde dich für dieses einmalige Event an und lerne PRODATO kennen.\nWir freuen uns auf viele spannende Gespräche! \nSIE HABEN FRAGEN?KONTAKTIEREN SIE UNS!
URL:https://prodato.de/veranstaltungen/pitch-club-developer-edition-221/
LOCATION:PARKS Nürnberg\, Berliner Platz 9\, Nürnberg\, 90409
ATTACH;FMTTYPE=image/png:https://prodato.de/wp-content/uploads/2025/04/BANNER-WEBSITE-AKTUELLES3.png
END:VEVENT
BEGIN:VEVENT
DTSTART;VALUE=DATE:20221013
DTEND;VALUE=DATE:20221014
DTSTAMP:20260422T145813
CREATED:20241203T134454Z
LAST-MODIFIED:20251008T072729Z
UID:10000069-1665619200-1665705599@prodato.de
SUMMARY:Pitch Club Developer Edition #125
DESCRIPTION:PRODATO bei der Pitch Club Developer Edition #125 – Nürnberg\nAm 13. Oktober 2022 werden wir „im Ring“ alles geben um Softwareentwickler*innen und IT-Professionals zu „pitchen“.\nBei den Pitch Club Events wird der Spieß umgedreht: die Unternehmen und Start-Ups müssen sich bei den Kandidaten und Kandidatinnen in kurzen Pitches vorstellen und diese von sich überzeugen. Nach jedem Pitch hat das Publikum die Gelegenheit\, in Q&A-Runden die ersten kritischen Fragen an die Unternehmen zu richten und diese auf Herz und Nieren zu prüfen. Weitere offene Punkte können anschließend bei After-Work-Atmosphäre in 1-on-1 Gesprächen besprochen werden.\nDu bist Softwareentwickler*in oder IT-Professional und auf der Suche nach einer neuen beruflichen Herausforderung? Dann melde dich für dieses einmalige Event an und lerne PRODATO kennen. \nWir freuen uns auf viele spannende Gespräche!
URL:https://prodato.de/veranstaltungen/pitch-club-developer-edition-125/
LOCATION:PARKS Nürnberg\, Berliner Platz 9\, Nürnberg\, 90409
ATTACH;FMTTYPE=image/png:https://prodato.de/wp-content/uploads/2024/12/72.png
END:VEVENT
END:VCALENDAR