BEGIN:VCALENDAR
VERSION:2.0
PRODID:-//PRODATO verbindet - ECPv6.15.20//NONSGML v1.0//EN
CALSCALE:GREGORIAN
METHOD:PUBLISH
X-WR-CALNAME:PRODATO verbindet
X-ORIGINAL-URL:https://prodato.de
X-WR-CALDESC:Veranstaltungen für PRODATO verbindet
REFRESH-INTERVAL;VALUE=DURATION:PT1H
X-Robots-Tag:noindex
X-PUBLISHED-TTL:PT1H
BEGIN:VTIMEZONE
TZID:Europe/Berlin
BEGIN:DAYLIGHT
TZOFFSETFROM:+0100
TZOFFSETTO:+0200
TZNAME:CEST
DTSTART:20210328T010000
END:DAYLIGHT
BEGIN:STANDARD
TZOFFSETFROM:+0200
TZOFFSETTO:+0100
TZNAME:CET
DTSTART:20211031T010000
END:STANDARD
BEGIN:DAYLIGHT
TZOFFSETFROM:+0100
TZOFFSETTO:+0200
TZNAME:CEST
DTSTART:20220327T010000
END:DAYLIGHT
BEGIN:STANDARD
TZOFFSETFROM:+0200
TZOFFSETTO:+0100
TZNAME:CET
DTSTART:20221030T010000
END:STANDARD
BEGIN:DAYLIGHT
TZOFFSETFROM:+0100
TZOFFSETTO:+0200
TZNAME:CEST
DTSTART:20230326T010000
END:DAYLIGHT
BEGIN:STANDARD
TZOFFSETFROM:+0200
TZOFFSETTO:+0100
TZNAME:CET
DTSTART:20231029T010000
END:STANDARD
BEGIN:DAYLIGHT
TZOFFSETFROM:+0100
TZOFFSETTO:+0200
TZNAME:CEST
DTSTART:20240331T010000
END:DAYLIGHT
BEGIN:STANDARD
TZOFFSETFROM:+0200
TZOFFSETTO:+0100
TZNAME:CET
DTSTART:20241027T010000
END:STANDARD
BEGIN:DAYLIGHT
TZOFFSETFROM:+0100
TZOFFSETTO:+0200
TZNAME:CEST
DTSTART:20250330T010000
END:DAYLIGHT
BEGIN:STANDARD
TZOFFSETFROM:+0200
TZOFFSETTO:+0100
TZNAME:CET
DTSTART:20251026T010000
END:STANDARD
BEGIN:DAYLIGHT
TZOFFSETFROM:+0100
TZOFFSETTO:+0200
TZNAME:CEST
DTSTART:20260329T010000
END:DAYLIGHT
BEGIN:STANDARD
TZOFFSETFROM:+0200
TZOFFSETTO:+0100
TZNAME:CET
DTSTART:20261025T010000
END:STANDARD
BEGIN:DAYLIGHT
TZOFFSETFROM:+0100
TZOFFSETTO:+0200
TZNAME:CEST
DTSTART:20270328T010000
END:DAYLIGHT
BEGIN:STANDARD
TZOFFSETFROM:+0200
TZOFFSETTO:+0100
TZNAME:CET
DTSTART:20271031T010000
END:STANDARD
END:VTIMEZONE
BEGIN:VEVENT
DTSTART;TZID=Europe/Berlin:20260306T100000
DTEND;TZID=Europe/Berlin:20260306T140000
DTSTAMP:20260420T085613
CREATED:20260225T071125Z
LAST-MODIFIED:20260225T071659Z
UID:10000126-1772791200-1772805600@prodato.de
SUMMARY:TH Praxistag bei Dataciders PRODATO
DESCRIPTION:Entdecke deinen Traumjob bei unserem Praxistag!Erlebe\, was uns ausmacht: Spannende Einblicke in unsere Berufe\, unser dynamisches Daily Business und das alles in lockerer Atmosphäre! Ob beim Vortrag\, beim Tischkickern oder bei Pizza: Lerne uns besser kennen und finde heraus\, wie du bei uns durchstarten kannst. \n\nWer wir sind & wen wir suchen\nWir sind ein mittelständischer IT-Lösungsanbieter mit Sitz in Nürnberg. Seit 1999 entwickeln wir mit modernster Technologie individuelle\, nachhaltige und zielorientierte Lösungen für datenzentrierte Fragestellungen unserer Kunden – unabhängig von Tool und Hersteller. \n\nDu studierst (Wirtschafts-)Informatik\, Mathematik\, Wirtschaftsingenieurwesen\, BWL oder einen verwandten Studiengang? Du bringst IT-Kompetenzen mit und hast Spaß an der Arbeit mit Daten?\nMelde dich an und lerne uns als potenziellen Arbeitgeber kennen! \n\nAgenda \n\nStart & Überblick: Begrüßung\, Unternehmenspräsentation und Einstiegsmöglichkeiten\nEinblicke in den Berufsalltag: Spannende Vorträge zu aktuellen Projekten in unterschiedlichen Teams\nBüroführung: Schau dich bei uns um!\nGemeinsames Essen: Zeit für Austausch und Pizza\n Feedback & Abschluss: Deine Meinung zählt!\nKicker-Turnier: Spaß und Networking zum Abschluss\n\n\nSei dabei und mach den ersten Schritt in deine Karriere!\nMelde dich einfach per E-Mail für den Dataciders PRODATO Praxistag an. \n\nDeine Ansprechpartnerin ist:\nMuriel Roesler\nkarriere@prodato.de \n\nInfos\, die wir von dir für die Anmeldung benötigen: \n\nVor- und Nachname\nE-Mailadresse\nTelefonnummer\nHochschule\, Studiengang\, Bachelor/Master\, Fachsemester\n\n\nWir freuen uns auf deine Anmeldung und Teilnahme! \n\nInformationen zur Anreise\nUnser Büro findest du in der Herderstr. 5-9 in Nürnberg.\nAnbindung an den ÖPNV: \n\nDie U-Bahn-Station „Stadtgrenze“ ist nur 10 Minuten zu Fuß entfernt.\nMehrere Buslinien fahren die Haltestelle „Herderstraße“ an.\n\nSollest du nur online teilnehmen können\, senden wir dir nach deiner Anmeldung gerne den Link per E-Mail zu. Schreib uns dazu bitte in die Anmeldungs-E-Mail\, ob du online oder vor Ort teilnehmen wirst.
URL:https://prodato.de/veranstaltungen/th-praxistag-bei-prodato-a-dataciders-company/
LOCATION:Dataciders PRODATO\, Herderstraße 5-9\, Nürnberg\, 90427
ATTACH;FMTTYPE=image/png:https://prodato.de/wp-content/uploads/2026/02/BANNER-WEBSITE-AKTUELLES-1.png
END:VEVENT
BEGIN:VEVENT
DTSTART;TZID=Europe/Berlin:20250708T160000
DTEND;TZID=Europe/Berlin:20250708T180000
DTSTAMP:20260420T085613
CREATED:20250425T084605Z
LAST-MODIFIED:20251008T072638Z
UID:10000093-1751990400-1751997600@prodato.de
SUMMARY:Grundlagen NoSQL - Die Zukunft der Datenbanken entdecken!
DESCRIPTION:Wir sind wieder als Goldsponsoren dabei –  beim Nürnberg Digital Festival! \nNDF: Grundlagen NoSQL – Die Zukunft der Datenbanken entdecken!\nModerne Anwendungen brauchen skalierbare\, performante und flexible Datenbanklösungen. Relationale Datenbanken stoßen hier oft an ihre Grenzen – und genau hier kommt NoSQL ins Spiel! Doch warum eigentlich NoSQL? Wann ist es sinnvoll? Welche NoSQL-Datenbank-Typen gibt es und welche passt zu deinem Anwendungsfall? \nIn diesem Vortrag lernst du verschiedene Typen von NoSQL Datenbanken kennen und erfährst:\n\nWarum NoSQL? – Die perfekte Lösung für skalierbare\, hochverfügbare und verteilte Datenverarbeitung\nWelcher NoSQL-Datenbank-Typ ist der Richtige für meinen Use Case?\n\nDokumentenbasiert (Key/Value) – Flexibles JSON-Datenmodell für dynamische Anwendungen\nTime-Series – Ideal für Echtzeit-Analysen und zeitgestempelte Daten\nSpaltenbasiert – Hohe Effizienz für analytische Workloads und Big Data\nVektor-Datenbanken – Finden von Ähnlichkeiten und Speicher für AI\nGraph-Datenbanken – Perfekt für Netzwerke\, Beziehungen und semantische Analysen\n\n\nNoSQL in der Praxis: Couchbase als leistungsstarke Lösung\n\nMulti-Model-Ansatz: Dokumentenspeicherung\, Volltextsuche\, Vektor-Suche und Caching – alles in einem System\nSQL-gestützte Abfragen: Nutze vertraute SQL-Syntax für einen einfachen Einstieg\n\n\n\nSichere dir jetzt deinen Platz im NoSQL-Workshop – mit spannenden Einblicken\, offenem Austausch und Raum für deine Fragen. Werde zum Datenbank-Experten! \nDer Link zur Anmeldung folgt in kürze. \nSpeaker\nDr. Johannes HeldPRODATO a Dataciders Company\nPrincipal \nSIE HABEN FRAGEN?KONTAKTIEREN SIE UNS!
URL:https://prodato.de/veranstaltungen/grundlagen-nosql-die-zukunft-der-datenbanken-entdecken/
LOCATION:Dataciders PRODATO\, Herderstraße 5-9\, Nürnberg\, 90427
CATEGORIES:Aktuelles
ATTACH;FMTTYPE=image/png:https://prodato.de/wp-content/uploads/2025/04/3-1.png
END:VEVENT
BEGIN:VEVENT
DTSTART;TZID=Europe/Berlin:20250703T170000
DTEND;TZID=Europe/Berlin:20250703T200000
DTSTAMP:20260420T085613
CREATED:20250425T084609Z
LAST-MODIFIED:20251008T072557Z
UID:10000092-1751562000-1751572800@prodato.de
SUMMARY:FOOBAR: Pitch your Fuck-Up - scheitern war noch nie so unterhaltsam!
DESCRIPTION:Auch in diesem Jahr sind wir erneut als Goldsponsor beim Nürnberg Digital Festival dabei – und setzen damit unser Engagement für digitale Innovation und eine starke Community in der Region fort. \nFOOBAR: Pitch your Fuck-Up – scheitern war noch nie so unterhaltsam!\nKennst du das? Du klickst auf „Update Server“ und plötzlich ist sich nicht nur deine komplette Firma digital in Luft auf\, sondern auch der gesamte Aktienmarkt stürzt ab\, drei Nachbarländer verlieren ihr Internet und dein Name wird in Sekundenbruchteilen zum Synonym für „monumentales Versagen“ in 47 Sprachen. Das heilige Backup\, das laut IT-Mythologie auf einer goldenen Festplatte gespeichert ist\, hast du natürlich gerade mit deiner 12-Terabyte-Sammlung „Fotos von besonders symmetrischen Verkehrsschildern“ überschrieben…\nNun gut\, das ist vielleicht ein bisschen übertreiben\, aber wir kennen alle kleinere oder größerer Fuck-ups: \nBei FOOBAR: Pitch your Fuck-Up dreht sich alles um die wertvollste Ressource im Business: spektakuläre Fehlschläge! \nWarum solltest du nur aus deinen eigenen Fehlern lernen\, wenn du auch aus den Katastrophen anderer lernen kannst? \nWas dich erwartet:\n\nknackig 5-Minuten-Pitches voller technischer Tragödien\n(Der Circle of Fucks – wo jeder Fehler gewürdigt wird)\nDie große Krönung des ULTIMATE FUCK UP – mit einem besonderen Preis (keine Sorge\, wir haben es schon bestellt… hoffentlich)\n\nWarum teilnehmen?\n\nLerne aus Fehlern\nNetworke durch geteiltes Leid bei Getränken und Snacks\nGewinne den begehrten FOOBAR-Award\n\nMITMACHEN? ABER SICHER!\nHast du einen epischen Fail erlebt? Eine technische Katastrophe\, die dir schlaflose Nächte bereitet hat? Oder aber auch nur ein kleineres Malheur? \nWir wollen davon hören! \nPitche deinen Fuckup in 5 Minuten und teile: \n\nWas genau schiefging\nWie es dazu kam\nWas du daraus gelernt hast\nWie andere diesen Fehler vermeiden können\n\nDer Link zur Anmeldung folgt in kürze. \nSpeaker\nMarius SchüllPRODATO a Dataciders Company\nConsultant \nAndreas ArtingerPRODATO a Dataciders Company\nLead Consultant \nSIE HABEN FRAGEN?KONTAKTIEREN SIE UNS!
URL:https://prodato.de/veranstaltungen/foobar-pitch-your-fuck-up-scheitern-war-noch-nie-so-unterhaltsam/
LOCATION:Dataciders PRODATO\, Herderstraße 5-9\, Nürnberg\, 90427
CATEGORIES:Aktuelles,PRODATO (Allgemein)
ATTACH;FMTTYPE=image/png:https://prodato.de/wp-content/uploads/2025/04/2-1.png
END:VEVENT
BEGIN:VEVENT
DTSTART;TZID=Europe/Berlin:20250403T100000
DTEND;TZID=Europe/Berlin:20250403T130000
DTSTAMP:20260420T085613
CREATED:20250211T110004Z
LAST-MODIFIED:20251020T070524Z
UID:10000076-1743674400-1743685200@prodato.de
SUMMARY:Girls‘ Day 2025
DESCRIPTION:Girls‘ Day 2025 bei PRODATO – Tauche ein in die spannende Welt der ITAm 03. April ist es wieder soweit – der Girls‘ Day steht an! An diesem Tag möchten wir Mädchen ermutigen\, neue Berufsfelder für sich zu entdecken\, insbesondere in Bereichen\, in denen Frauen bisher noch unterrepräsentiert sind. \nDieses Jahr findet der Girls‘ Day auf Dataciders-Gruppenebene statt\, und wir freuen uns besonders\, diesen spannenden Tag auch bei PRODATO am Standort Nürnberg zu gestalten! \nWas erwartet Dich?\nSchülerinnen ab der 6. Klasse haben die Möglichkeit\, die vielfältige Welt der IT-Beratung kennenzulernen. Gemeinsam mit unseren IT-Expertinnen bekommst Du spannende Einblicke in unseren Arbeitsalltag und erhältst wertvolle Tipps für Deinen möglichen Einstieg in die Branche. \nUnter Anleitung unserer Kollegin Lara wirst Du sogar selbst aktiv: Mit echten Beispieldaten erstellst Du eigene Analysen und baust ein Dashboard – ganz wie eine echte IT-Beraterin! \nAblauf\n\n10:00 Uhr Empfang & Büroführung\n10:30 Uhr Speed Dating mit unseren IT-lerinnen\n11:30 Uhr Erstellung eines Dashboards mit Lara\n12:30 Uhr Gemeinsames Pizza-Essen\n13:00 Uhr Ende\n\nWir freuen uns darauf\, diesen inspirierenden Tag mit Euch zu verbringen! Sei dabei und tauche in die Welt der IT ein! \nHi Mädels\, \nich bin Lara und freue mich\, dich bei unserem Girls’Day willkommen heißen zu dürfen. :)
URL:https://prodato.de/veranstaltungen/girls-day-2025/
LOCATION:Dataciders PRODATO\, Herderstraße 5-9\, Nürnberg\, 90427
ATTACH;FMTTYPE=image/png:https://prodato.de/wp-content/uploads/2025/02/BANNER-WEBSITE-AKTUELLES-6.png
END:VEVENT
BEGIN:VEVENT
DTSTART;TZID=Europe/Berlin:20250221T100000
DTEND;TZID=Europe/Berlin:20250221T140000
DTSTAMP:20260420T085613
CREATED:20250106T220026Z
LAST-MODIFIED:20251020T071535Z
UID:10000074-1740132000-1740146400@prodato.de
SUMMARY:TH Praxistag bei PRODATO
DESCRIPTION:Entdecke deinen Traumjob bei unserem Praxistag!Erlebe\, was uns ausmacht: Spannende Einblicke in unsere Berufe\, unser dynamisches Daily Business – und das alles in lockerer Atmosphäre!\nOb beim Vortrag\, beim Tischkickern oder bei Pizza: Lerne uns besser kennen und finde heraus\, wie du bei uns durchstarten kannst. \nSei dabei und mach den ersten Schritt in deine Karriere!\nWer wir sind\nWir sind ein mittelständischer IT-Lösungsanbieter mit Sitz in Nürnberg. Seit 1999 entwickeln wir mit modernster Technologie individuelle\, nachhaltige und zielorientierte Lösungen für datenzentrierte Fragestellungen unserer Kunden – unabhängig von Tool und Hersteller. \nDu studierst (Wirtschafts-)Informatik\, Mathematik\, Wirtschaftsingenieurwesen\, BWL oder einen verwandten Studiengang?\nDu bringst IT-Kompetenzen mit und hast Spaß an der Arbeit mit Daten? \nDann melde dich an und lerne uns als potenziellen Arbeitgeber kennen! \nAgenda \n\nStart & Überblick: Begrüßung\, Unternehmenspräsentation und Einstiegsmöglichkeiten\nEinblicke in den Berufsalltag: Spannende Vorträge zu aktuellen Projekten in unterschiedlichen Teams\nBüroführung: Schau dich bei uns um!\nGemeinsames Essen: Zeit für Austausch und Pizza\n Feedback & Abschluss: Deine Meinung zählt!\nKicker-Turnier: Spaß und Networking zum Abschluss\n\nInformationen zur Anmeldung\nMelde dich per E-Mail für den PRODATO Praxistag an. \nDeine Ansprechpartnerin ist:\nMelanie Riner\nkarriere@prodato.de\nKlicke auf diese E-Mailadresse\, um deine Anmeldung zu erleichtern.\nGerne per DU! \nInfos\, die wir von dir für die Anmeldung benötigen: \n\nVor- und Nachname\nE-Mailadresse\nTelefonnummer\nHochschule\, Studiengang\, Bachelor/Master\, Fachsemester\nTeilnahme vor Ort oder online per Teams: Schreibe uns bestenfalls in die E-Mail\, ob du vor Ort oder online teilnehmen wirst. Den Link zur Online-Teilnahme erhältst du mit der Anmeldungsbestätigung.\n\nWir freuen uns auf deine Anmeldung und Teilnahme! \nInformationen zur Anreise \nUnser Büro findest du in der Herderstr. 5-9 in Nürnberg.\nAnbindung an den ÖPNV: \n\nDie U-Bahn-Station „Stadtgrenze“ ist nur 10 Minuten zu Fuß entfernt.\nMehrere Buslinien fahren die Haltestelle „Herderstraße“ an.\n\nSollest du nur online teilnehmen können\, senden wir dir nach deiner Anmeldung gerne den Link per E-Mail zu. Schreib uns dazu bitte in die Anmeldungs-E-Mail\, ob du online oder vor Ort teilnehmen wirst.
URL:https://prodato.de/veranstaltungen/21-02-2025-th-praxistag-bei-prodato/
LOCATION:Dataciders PRODATO\, Herderstraße 5-9\, Nürnberg\, 90427
ATTACH;FMTTYPE=image/png:https://prodato.de/wp-content/uploads/2025/01/39.png
END:VEVENT
BEGIN:VEVENT
DTSTART;TZID=Europe/Berlin:20241016T180000
DTEND;TZID=Europe/Berlin:20241016T210000
DTSTAMP:20260420T085613
CREATED:20241010T113010Z
LAST-MODIFIED:20250129T112440Z
UID:10000011-1729101600-1729112400@prodato.de
SUMMARY:Meet Up Data Science & AI
DESCRIPTION:On Wednesday\, October 16\, 2024\, we’re excited to host another AI Meetup\, and we can’t wait to welcome you to an evening full of insights and engaging discussions. \nIn this casual and interactive format\, we’ll dive into the world of MLOps and AI-driven solutions. Our speakers will share their knowledge\, and you’ll have the chance to actively participate\, ask questions\, and connect with other data science professionals from the Nuremberg area. We’ll also keep the energy flowing with pizza and drinks to fuel great conversations. \nThe agenda for the evening looks like this: \n\n18:00 – Welcome with Lukas Spranger and Arne Wellnitz\n18:15 – Chris Swart: Retrieval Augmented Generation (RAG) with Language Model Query Language (LMQL)\n19:00 – Manuel Gambert: Data Pipelines for MLOps\nNew! Interactive Lightning Talks: From the Community\, For the Community\nNetworking with Pizza and Drinks\n\nIf you’re passionate about data science and AI\, this is your opportunity to learn\, share ideas\, and grow your network. Whether you’re a seasoned professional or just starting out\, we’d love to meet you and exchange ideas. \nJoin us for a night of great talks\, interesting discussions\, and fun networking – we’re looking forward to seeing you there!
URL:https://prodato.de/veranstaltungen/meet-up-data-science-ai/
LOCATION:Dataciders PRODATO\, Herderstraße 5-9\, Nürnberg\, 90427
CATEGORIES:Aktuelles,Machine Learning,PRODATO (Allgemein)
ATTACH;FMTTYPE=image/png:https://prodato.de/wp-content/uploads/2024/10/7.png
END:VEVENT
BEGIN:VEVENT
DTSTART;TZID=Europe/Berlin:20240702T140000
DTEND;TZID=Europe/Berlin:20240702T190000
DTSTAMP:20260420T085613
CREATED:20240527T083058Z
LAST-MODIFIED:20250130T075113Z
UID:10000019-1719928800-1719946800@prodato.de
SUMMARY:Praxiswerkstatt Reloaded: Prozessautomatisierung leicht gemacht
DESCRIPTION:Willkommen zur neuesten Ausgabe der PRODATO Praxiswerkstatt Prozessautomatisierung! Geschäftsprozesse sind das pulsierende Herz jeder Organisation. Aber wie kann man sie effizient modellieren\, digitalisieren und optimieren? Und vor allem: Wie behält man den Überblick\, wenn Hyperautomation\, KI und autonome Anwendungen die Zukunft bestimmen? \nIn unserer interaktiven Werkstatt tauchen wir gemeinsam in die Welt der Prozessautomatisierung ein. Diesmal mit dem Fokus auf die Möglichkeiten und Grenzen von Low-Code\, prozessbasierten Anwendungen\, Robotic Process Automation (RPA) und Künstliche Intelligenz. Gemeinsam entdecken wir Tools und Techniken\, um Geschäftsprozesse effektiv zu modellieren\, zu automatisieren und zu überwachen. Du wirst in praktischen Übungen das Gelernte direkt umsetzen können und an realen Fallbeispielen arbeiten\, die du gerne auch aus deinem eigenen Unternehmen mitbringen kannst. \nNeben unseren Workshops gibt es auch spannende Fachvorträge und die Gelegenheit zum entspannten Austausch in den PRODATO-Räumlichkeiten. Hier kannst du dich mit anderen vernetzen und wertvolle Erkenntnisse teilen. \nVerpasse nicht die Gelegenheit\, dich mit den neuesten Trends und Innovationen in der Prozessautomatisierung vertraut zu machen und sei dabei\, wenn wir gemeinsam die Zukunft der Prozessautomatisierung gestalten! \nSIE HABEN FRAGEN?KONTAKTIEREN SIE UNS!
URL:https://prodato.de/veranstaltungen/praxiswerkstatt-reloaded-prozessautomatisierung/
LOCATION:Dataciders PRODATO\, Herderstraße 5-9\, Nürnberg\, 90427
CATEGORIES:Prozessmodellierung
ATTACH;FMTTYPE=image/png:https://prodato.de/wp-content/uploads/2024/05/16-1.png
END:VEVENT
BEGIN:VEVENT
DTSTART;TZID=Europe/Berlin:20240308T100000
DTEND;TZID=Europe/Berlin:20240308T140000
DTSTAMP:20260420T085613
CREATED:20231217T123024Z
LAST-MODIFIED:20251020T070730Z
UID:10000032-1709892000-1709906400@prodato.de
SUMMARY:TH Praxistag bei PRODATO
DESCRIPTION:Frühzeitig zu deinem beruflichen Perfect Match\nAm 08.03.2024 laden wir Studentinnen und Studenten zu einem Kennenlernen bei PRODATO ein. \nDein Match\nWir sind eine mittelständische IT-Unternehmensberatung mit Unternehmenssitz in Nürnberg. Seit 1999 entwickeln wir unter Einsatz von modernster Technologie individuelle\, nachhaltige und zielorientierte Lösungen für datenzentrierte Fragestellungen unserer Kunden\, unabhängig von Tool und Hersteller. \nDeine Bio\nDu studierst (Wirtschafts-)Informatik\, Mathematik\, Wirtschaftsingenieurwesen\, BWL oder einen verwandten Studiengang? Du bringst IT-Kompetenzen mit und hast Spaß an der Arbeit mit Daten? Dann bist du unser Perfect-Match! \nUnser Date\nFindet statt am 08.03.2024 von 10:00 Uhr bis 14:00 Uhr mit folgendem Programm: \n\nWelcome\nVorstellung PRODATO\nEinblicke in den Berufsalltag\nSpannende Vorträge:\naktuelle Projekte\nWerkstudentenjobs\nMittagsimbiss\nBürorundgang\nEinstiegsmöglichkeiten\nKicker-Turnier (natürlich)
URL:https://prodato.de/veranstaltungen/th-praxistag-bei-prodato/
LOCATION:Dataciders PRODATO\, Herderstraße 5-9\, Nürnberg\, 90427
ATTACH;FMTTYPE=image/png:https://prodato.de/wp-content/uploads/2023/12/37.png
END:VEVENT
BEGIN:VEVENT
DTSTART;TZID=Europe/Berlin:20230718T173000
DTEND;TZID=Europe/Berlin:20230718T203000
DTSTAMP:20260420T085613
CREATED:20230711T082004Z
LAST-MODIFIED:20250129T120354Z
UID:10000039-1689701400-1689712200@prodato.de
SUMMARY:Meet Up Data Science & AI 2023
DESCRIPTION:This event will be all about MLOps. We will have two exciting talks and our usual chitchat with drinks. This is your opportunity to meet other data science professionals from the Nuremberg area\, sharpen your skills and exchange ideas with like-minded professionals. \nAgenda: \n\nWelcome\nMelanie Sigl: How to deploy your ML project to production with MLOps\nOskar Schneider: AI-Driven Decision making: An Introduction to Operations Research for business problem solving\nOpen discussion and networking\n\nKey factsTopics \n#Business #ProfessionalNetworking #DataScience #SoftwareDevelopement #AI
URL:https://prodato.de/veranstaltungen/meet-up-data-science-ai-2/
LOCATION:Dataciders PRODATO\, Herderstraße 5-9\, Nürnberg\, 90427
CATEGORIES:Aktuelles,Machine Learning,PRODATO (Allgemein)
ATTACH;FMTTYPE=image/png:https://prodato.de/wp-content/uploads/2023/07/48.png
END:VEVENT
BEGIN:VEVENT
DTSTART;TZID=Europe/Berlin:20230713T100000
DTEND;TZID=Europe/Berlin:20230713T130000
DTSTAMP:20260420T085613
CREATED:20230622T105741Z
LAST-MODIFIED:20250129T120434Z
UID:10000037-1689242400-1689253200@prodato.de
SUMMARY:Die Zukunft der Arbeit: Mobile Endgeräte im Sync mit zentralem Backend
DESCRIPTION:Bereit für ein Abenteuer in der Welt der mobilen App-Entwicklung und Couchbase? Wir zeigen dir Schritt für Schritt\, wie du eine mobile Anwendung erstellst und dabei den Code-Magier in dir entdeckst. \nWir speichern die Daten unserer App lokal in einer Couchbase Lite und synchronisieren sie automatisch mit einem Couchbase Cluster\, sobald eine Netzwerkverbindung besteht. \nLass dich von der leistungsstarken Couchbase-NoSQL-Datenbank inspirieren und erfahre\, wie sie die Datenhaltung und Synchronisation in der mobilen App-Entwicklung revolutioniert. Nutze diese Gelegenheit\, um dein Wissen zu erweitern und dich mit Gleichgesinnten auszutauschen. Wir freuen uns auf deine Teilnahme! \nKey factsThema \n#API #CloudComputing #Technology
URL:https://prodato.de/veranstaltungen/die-zukunft-der-arbeit/
LOCATION:Dataciders PRODATO\, Herderstraße 5-9\, Nürnberg\, 90427
ATTACH;FMTTYPE=image/png:https://prodato.de/wp-content/uploads/2023/06/51.png
END:VEVENT
BEGIN:VEVENT
DTSTART;TZID=Europe/Berlin:20230712T140000
DTEND;TZID=Europe/Berlin:20230712T180000
DTSTAMP:20260420T085613
CREATED:20230622T105629Z
LAST-MODIFIED:20250129T120526Z
UID:10000036-1689170400-1689184800@prodato.de
SUMMARY:Praxiswerkstatt Prozessautomatisierung: Auf die Prozesse\, fertig\, los!
DESCRIPTION:Modellierst du noch oder automatisierst du schon? – Willkommen in der PRODATO Praxiswerkstatt Prozessautomatisierung! \nGeschäftsprozesse bilden den Kern einer jeden Unternehmung. Aber was macht eigentlich ein gutes Prozessmodell aus?  Wie schaffen wir es von einer Prozessmodell zu einer ausführbaren Version zu kommen? Wie viel Automatisierung ist wirklich sinnvoll? Und wie können wir überwachen\, ob unsere Prozesse auch wirklich so ablaufen\, wie wir das gerne hätten? \nIn unserer Praxiswerkstatt Prozessautomatisierung wollen wir diesen Fragen gemeinsam auf den Grund gehen. Dabei heißt nicht umsonst Werkstatt – Wir schauen uns gemeinsam Tools zum Modellieren\, Automatisieren und Überwachen von Prozessen an und testen diese anhand praxisrelevanter gerne auch von euch eingebrachten Beispielprozesse. Umrahmt wird das Ganze von kleinen Fachvorträgen und einem entspannten abendlichen Ausklang in den PRODATO-Räumlichkeiten. \nKey factsThema \n#Apps&Tools #Automation #DigitalTransformation
URL:https://prodato.de/veranstaltungen/praxiswerkstatt-prozessautomatisierung/
LOCATION:Dataciders PRODATO\, Herderstraße 5-9\, Nürnberg\, 90427
CATEGORIES:Prozessmodellierung
ATTACH;FMTTYPE=image/png:https://prodato.de/wp-content/uploads/2023/06/46.png
END:VEVENT
BEGIN:VEVENT
DTSTART;VALUE=DATE:20230303
DTEND;VALUE=DATE:20230304
DTSTAMP:20260420T085613
CREATED:20241203T133547Z
LAST-MODIFIED:20251008T071759Z
UID:10000066-1677801600-1677887999@prodato.de
SUMMARY:TH Praxistag bei PRODATO
DESCRIPTION:Wir laden Euch\, Studentinnen und Studenten\, herzlich zum Kennenlernen bei PRODATO ein!\nWas erwartet Euch am Praxistag\nBei unserem Praxistag steht im Vordergrund\, dass Ihr den Alltag in unserem IT-Beratungsunternehmen kennenlernt. Unsere Mitarbeiterinnen und Mitarbeiter zeigen Euch unsere aktuellen Projekte\, spannende Case Studies und ihren Arbeitsplatz. Damit Ihr noch einen besseren Einblick bekommt zeigt Euch im Anschluss unser aktueller Werkstudent seine Aufgaben bei PRODATO. Zum Abschluss darf bei uns ein Kicker-Turnier natürlich nicht fehlen! \nEinstiegsmöglichkeiten bei PRODATO während und nach dem Studium\nAls IT-Unternehmensberatung in der Metropolregion Nürnberg bieten wir Euch\, Studentinnen und Studenten\, der Fachrichtung Informatik\, Wirtschaftsinformatik und verwandten Studiengängen spannende Einstiegsmöglichkeiten. Ob auf der Suche nach einer Werkstudentenstelle\, einem Praktikumsplatz oder einem Direkteinstieg\, wir bieten verschiedene Möglichkeiten damit Ihr Teil unseres Teams werden könnt. \nP.S. für einen gemeinsamen Mittagsimbiss ist gesorgt. \nIn Abhängigkeit der Einschränkungen aufgrund der Corona-Pandemie wird die Veranstaltung vor Ort oder als Videokonferenz stattfinden.
URL:https://prodato.de/veranstaltungen/th-praxistag-bei-prodato-3/
LOCATION:Dataciders PRODATO\, Herderstraße 5-9\, Nürnberg\, 90427
CATEGORIES:Kontakt
ATTACH;FMTTYPE=image/png:https://prodato.de/wp-content/uploads/2024/12/65.png
END:VEVENT
BEGIN:VEVENT
DTSTART;VALUE=DATE:20220708
DTEND;VALUE=DATE:20220709
DTSTAMP:20260420T085613
CREATED:20241203T134824Z
LAST-MODIFIED:20251008T072717Z
UID:10000071-1657238400-1657324799@prodato.de
SUMMARY:Datenwertschöpfung mit Leidenschaft oder: Der Alltag des Data Engineers #nuedigital2022
DESCRIPTION:Data Engineers kümmern sich in Unternehmen darum\, Daten zu sammeln\, zu erstellen\, zu speichern\, bereitzustellen\, zu orchestrieren und anzureichern. Die Zusammenarbeit mit den Datenanalyst(inn)en und Data Scientist(inn)en ist dabei eng. \nDie Modellierung skalierbarer Datenbank- und Datenfluss-Architekturen gehört dazu\, wie auch die dazugehörigen technischen und organisatorischen Rahmenbedingungen (IT-Infrastruktur\, Datensicherheit\, Datenschutz\, Datenqualität). \nIn Form eines Praxistags stellen wir den Arbeitsalltags in der datenzentrierten IT-Beratung vor. Mitarbeiter und Mitarbeiterinnen aus unseren Teams präsentieren aktuelle Projekte\, zeigen Case Studies und stellen unser Technologieportfolio vor. \nDatenwertschöpfung ist unsere Leidenschaft. \nOb auf der Suche nach einer Werkstudentenstelle\, einem Praktikum\, einem Job als Berufseinstieg oder bereits mit Berufserfahrung: Wir präsentieren am Praxistag verschiedene Möglichkeiten\, Teil unseres Teams zu werden. \nWir freuen uns auf Euch!
URL:https://prodato.de/veranstaltungen/datenwertschoepfung-mit-leidenschaft-oder-der-alltag-des-data-engineers-nuedigital2022/
LOCATION:Dataciders PRODATO\, Herderstraße 5-9\, Nürnberg\, 90427
ATTACH;FMTTYPE=image/png:https://prodato.de/wp-content/uploads/2024/12/73.png
END:VEVENT
END:VCALENDAR