BEGIN:VCALENDAR
VERSION:2.0
PRODID:-//PRODATO verbindet - ECPv6.15.20//NONSGML v1.0//EN
CALSCALE:GREGORIAN
METHOD:PUBLISH
X-WR-CALNAME:PRODATO verbindet
X-ORIGINAL-URL:https://prodato.de
X-WR-CALDESC:Veranstaltungen für PRODATO verbindet
REFRESH-INTERVAL;VALUE=DURATION:PT1H
X-Robots-Tag:noindex
X-PUBLISHED-TTL:PT1H
BEGIN:VTIMEZONE
TZID:Europe/Berlin
BEGIN:DAYLIGHT
TZOFFSETFROM:+0100
TZOFFSETTO:+0200
TZNAME:CEST
DTSTART:20210328T010000
END:DAYLIGHT
BEGIN:STANDARD
TZOFFSETFROM:+0200
TZOFFSETTO:+0100
TZNAME:CET
DTSTART:20211031T010000
END:STANDARD
BEGIN:DAYLIGHT
TZOFFSETFROM:+0100
TZOFFSETTO:+0200
TZNAME:CEST
DTSTART:20220327T010000
END:DAYLIGHT
BEGIN:STANDARD
TZOFFSETFROM:+0200
TZOFFSETTO:+0100
TZNAME:CET
DTSTART:20221030T010000
END:STANDARD
BEGIN:DAYLIGHT
TZOFFSETFROM:+0100
TZOFFSETTO:+0200
TZNAME:CEST
DTSTART:20230326T010000
END:DAYLIGHT
BEGIN:STANDARD
TZOFFSETFROM:+0200
TZOFFSETTO:+0100
TZNAME:CET
DTSTART:20231029T010000
END:STANDARD
END:VTIMEZONE
BEGIN:VEVENT
DTSTART;VALUE=DATE:20221026
DTEND;VALUE=DATE:20221027
DTSTAMP:20260420T154215
CREATED:20241203T133321Z
LAST-MODIFIED:20251008T072742Z
UID:10000064-1666742400-1666828799@prodato.de
SUMMARY:inova2022
DESCRIPTION:PRODATO präsentiert sich an der inova2022\nAm 26.10.2022 können sich Interessierende von 10:00-16:00 Uhr über Karrieremöglichkeiten und aktuelle Ausschreibungen bei der PRODATO informieren und auf unserer Karriere Website bewerben.\nDie inovailmenau an der TU Ilmenau ist innerhalb der letzten 20 Jahren eines der bedeutendsten Karriereforen in ganz Deutschland geworden.\nAuf der Suche nach dem Traumjob können Studierende hier einen direkten Kontakt zu den exklusiv ausgesuchten Unternehmen vor Ort knüpfen. Im persönlichen Gespräch eröffnen sich Karrierechancen. Firmenvertreter haben die Möglichkeit\, kompetentes Fachpersonal zu finden und auf das eigene Unternehmen aufmerksam zu machen.
URL:https://prodato.de/veranstaltungen/inova2022/
LOCATION:Technische Universität Ilmenau\, Ehrenbergstr. 51\, Ilmenau\, 98693
ATTACH;FMTTYPE=image/png:https://prodato.de/wp-content/uploads/2024/12/70.png
END:VEVENT
END:VCALENDAR