BEGIN:VCALENDAR
VERSION:2.0
PRODID:-//PRODATO verbindet - ECPv6.15.20//NONSGML v1.0//EN
CALSCALE:GREGORIAN
METHOD:PUBLISH
X-ORIGINAL-URL:https://prodato.de
X-WR-CALDESC:Veranstaltungen für PRODATO verbindet
REFRESH-INTERVAL;VALUE=DURATION:PT1H
X-Robots-Tag:noindex
X-PUBLISHED-TTL:PT1H
BEGIN:VTIMEZONE
TZID:Europe/Berlin
BEGIN:DAYLIGHT
TZOFFSETFROM:+0100
TZOFFSETTO:+0200
TZNAME:CEST
DTSTART:20220327T010000
END:DAYLIGHT
BEGIN:STANDARD
TZOFFSETFROM:+0200
TZOFFSETTO:+0100
TZNAME:CET
DTSTART:20221030T010000
END:STANDARD
BEGIN:DAYLIGHT
TZOFFSETFROM:+0100
TZOFFSETTO:+0200
TZNAME:CEST
DTSTART:20230326T010000
END:DAYLIGHT
BEGIN:STANDARD
TZOFFSETFROM:+0200
TZOFFSETTO:+0100
TZNAME:CET
DTSTART:20231029T010000
END:STANDARD
BEGIN:DAYLIGHT
TZOFFSETFROM:+0100
TZOFFSETTO:+0200
TZNAME:CEST
DTSTART:20240331T010000
END:DAYLIGHT
BEGIN:STANDARD
TZOFFSETFROM:+0200
TZOFFSETTO:+0100
TZNAME:CET
DTSTART:20241027T010000
END:STANDARD
END:VTIMEZONE
BEGIN:VEVENT
DTSTART;TZID=Europe/Berlin:20231025T100000
DTEND;TZID=Europe/Berlin:20231025T160000
DTSTAMP:20260420T153335
CREATED:20231023T155955Z
LAST-MODIFIED:20250129T115922Z
UID:10000040-1698228000-1698249600@prodato.de
SUMMARY:PRODATO auf der Inova 2023
DESCRIPTION:PRODATO präsentiert sich an der inova2023.\nDie inovailmenau\, das größte Projekt des SWING e.V.\, hat sich in den letzten 27 Jahren zu einem der bedeutendsten Karriereforen Mitteldeutschlands etabliert. Die vollständig von Studierenden organisierte Karrieremesse bietet Studierenden der TU Ilmenau die Möglichkeit\, durch das Messegeschehen und die Präsenz bedeutender Unternehmen ihren Karriereweg zu definieren und zu beschreiten. Während der beiden Messetage können die Besuchenden direkt vor Ort Bewerbungsgespräche führen\, an Unternehmenspräsentationen teilnehmen und professionelle Bewerbungsfotos machen lassen\, um mit potenziellen Arbeitgebern in Kontakt zu treten.
URL:https://prodato.de/veranstaltungen/inova2023/
LOCATION:USZ Ilmenau\, Ehrenbergstraße 51\, Ilmenau\, Thüringen\, 98693\, Germany
CATEGORIES:Prozessautomatisierung,Prozessmodellierung
ATTACH;FMTTYPE=image/png:https://prodato.de/wp-content/uploads/2023/10/41.png
END:VEVENT
END:VCALENDAR